Workbook
Name _1: #N/A
Name _1000A01: #N/A
Name _2: #N/A
Name _CON1: #REF!
Name _CON1: #REF!
Name _CON2: #REF!
Name _CON2: #REF!
Name _lap1: #REF!
Name _lap1: #REF!
Name _lap2: #REF!
Name _lap2: #REF!
Name _NET2: #REF!
Name _NET2: #REF!
Name A01_: #N/A
Name A01AC: #N/A
Name A01CAT: #N/A
Name A01CODE: #N/A
Name A01DATA: #N/A
Name A01MI: #N/A
Name A01TO: #N/A
Name AA: #REF!
Name AA: #REF!
Name All_Item: #REF!
Name All_Item: #REF!
Name ALPIN: #N/A
Name ALPJYOU: #N/A
Name ALPTOI: #N/A
Name BB: #REF!
Name BB: #REF!
Name BOQ: #REF!
Name BOQ: #REF!
Name BVCISUMMARY: #REF!
Name BVCISUMMARY: #REF!
Name cap: #REF!
Name cap: #REF!
Name cap0.7: #REF!
Name cap0.7: #REF!
Name Category_All: #REF!
Name Category_All: #REF!
Name CATIN: #N/A
Name CATJYOU: #N/A
Name CATREC: #N/A
Name CATSYU: #N/A
Name CL: #REF!
Name CL: #REF!
Name COMMON: #REF!
Name COMMON: #REF!
Name CON_EQP_COS: #REF!
Name CON_EQP_COS: #REF!
Name CON_EQP_COST: #REF!
Name CON_EQP_COST: #REF!
Name CONST_EQ: #REF!
Name CONST_EQ: #REF!
Name COVER: #REF!
Name COVER: #REF!
Name CRITINST: #REF!
Name CRITINST: #REF!
Name CRITPURC: #REF!
Name CRITPURC: #REF!
Name CS_10: #REF!

Sheet foxz

Sheet PL 1
A1: Phụ lục 1 ĐÁNH GIÁ CHỈ TIÊU KINH TẾ - XÃ HỘI 9 THÁNG NĂM 2026 (kèm theo Báo cáo số /BC-UBND ngày tháng năm 2026 của UBND xã Kon Braih)
A2: TT | B2: Chỉ tiêu | C2: Đơn vị tính | D2: Kế hoạch 2025 | F2: Kết quả thực hiện | G2: % so với kế hoạch | H2: Kế hoạch năm 2026 | I2: Thực hiện đến 8 tháng | J2: thực hiện 9 tháng | K2: Tỉ lệ %
D3: NQ số 09 | E3: NQ số 17
A4: I | B4: CHỈ TIÊU KINH TẾ | C4: 1 | H4: 2 | I4: 3 | J4: 4 | K4: 5=3/2
A5: 1 | B5: Thu nhập bình quân đầu người | C5: Tr.đồng/người/năm | D5: 55.79 | F5: 55.79 | G5: =F5/D5*100 -> 100 | H5: 59 | I5: Đánh giá cuối năm | K5: 0
A6: 2 | B6: Tổng giá trị sản xuất | C6: Tỷ đồng | D6: 1.134,466 | F6: =SUM(F7:F9) -> 1222.85 | G6: =F6/D6*100 -> #VALUE! | H6: =SUM(H7:H9) -> 1325.9027 | I6: =SUM(I7:I9) -> 1000 | J6: =I6 -> 1000 | K6: =I6/H6*100 -> 75.420317
A7: - | B7: Nông lâm - Thủy sản | C7: Tỷ đồng | D7: 767.167 | F7: 575.52 | G7: =F7/D7*100 -> 75.018868 | H7: 635.31542 | I7: 425 | J7: =I7 -> 425 | K7: =I7/H7*100 -> 66.895905 | N7: =I10+J11 -> 194.953
A8: - | B8: Công nghiệp - Xây dựng | C8: Tỷ đồng | D8: 87.433 | F8: 297.04 | G8: =F8/D8*100 -> 339.73443 | H8: 329.49902 | I8: 260 | J8: =I8 -> 260 | K8: =I8/H8*100 -> 78.907669
A9: - | B9: Thương mại - Dịch vụ | C9: Tỷ đồng | D9: 304.365 | F9: 350.29 | G9: =F9/D9*100 -> 115.08879 | H9: 361.08822 | I9: 315 | J9: =I9 -> 315 | K9: =I9/H9*100 -> 87.236298 | N9: =H7 -> 635.31542 | O9: =N9/12 -> 52.942952
A10: 3 | B10: Thu NSNN | C10: Tỷ đồng | D10: 98.107 | F10: 98.107 | G10: =F10/D10*100 -> 100 | H10: 163.531 | I10: 176.168 | J10: 189.269 | K10: =I10/H10*100 -> 107.72759 | N10: =H8 -> 329.49902 | O10: =N10/12 -> 27.458252
B11: Trong đó: Thu NSNN trên địa bàn | C11: Tỷ đồng | D11: 34.065 | F11: 39.037 | G11: =F11/D11*100 -> 114.59563 | H11: 24.625 | I11: 15.639 | J11: 18.785 | K11: =I11/H11*100 -> 63.508629 | N11: =H9 -> 361.08822 | O11: =N11/12 -> 30.090685
A12: 4 | B12: Chi NSNN | C12: Tỷ đồng | D12: 98.107 | F12: 98.107 | G12: =F12/D12*100 -> 100 | H12: 163.531 | I12: 109.643 | J12: 126.795 | K12: =I12/H12*100 -> 67.047227
A13: 5 | B13: Nông nghiệp
A14: 5.1 | B14: Tổng diện tích gieo trồng | C14: Ha | D14: =SUM(D15:D17) -> 8226.25 | F14: =SUM(F15:F17) -> 8227.35 | G14: =F14/D14*100 -> 100.01337 | H14: =SUM(H15:H17) -> 8407.3 | I14: =SUM(I15:I17) -> 8224.65 | J14: =J15+J16+J17 -> 8360.93 | K14: =I14/H14*100 -> 97.827483
A15: + | B15: Diện tích gieo trồng cây hàng năm | C15: Ha | D15: 3575.47 | F15: 3575.47 | G15: =F15/D15*100 -> 100 | H15: 3573.1 | I15: ='PL 2'!I8 -> 3392.9 | J15: ='PL 2'!K8 -> 3528.1 | K15: =I15/H15*100 -> 94.95676
A16: + | B16: Diện tích gieo trồng cây lâu năm | C16: Ha | D16: 4545.88 | F16: 4546.98 | G16: =F16/D16*100 -> 100.0242 | H16: 4729.3 | I16: ='PL 2'!I72 -> 4726.85 | J16: ='PL 2'!K72 -> 4727.93 | K16: =I16/H16*100 -> 99.948195
A17: + | B17: Diện tích gieo trồng cây dược liệu | C17: Ha | D17: 104.9 | F17: 104.9 | G17: =F17/D17*100 -> 100 | H17: 104.9 | I17: 104.9 | J17: ='PL 2'!K110 -> 104.9 | K17: =I17/H17*100 -> 100
A18: 5.2 | B18: Diện tích cây khác | C18: Ha | D18: 115873 | F18: =F19+F20 -> 1157.93 | G18: =F18/D18*100 -> 0.99930959 | H18: =SUM(H19:H20) -> 4288.93 | I18: =SUM(I19:I20) -> 1038.67 | J18: =J19+J20 -> 1061.67 | K18: =I18/H18*100 -> 24.217462 | N18: =J19+J20 -> 1061.67
A19: - | B19: Bời Lời | C19: Ha | D19: 447.9 | F19: 447.1 | H19: ='PL 2'!K8 -> 3528.1 | I19: ='PL 2'!I99 -> 377.84 | J19: ='PL 2'!K99 -> 377.84 | K19: =I19/H19*100 -> 10.709447
A20: - | B20: Diện tích rừng trồng | C20: Ha | D20: 710.83 | F20: 710.83 | H20: =F20+H21 -> 760.83 | I20: ='PL 2'!I101 -> 660.83 | J20: ='PL 2'!K100 -> 683.83 | K20: =I20/H20*100 -> 86.856459
A21: + | B21: Diện tích rừng trồng mới | D21: 50 | F21: 50 | H21: 50 | I21: 43 | J21: ='PL 2'!K102 -> 53.5 | K21: =I21/H21*100 -> 86
A22: 5.3 | B22: Chăn nuôi | D22: 78476 | F22: =SUM(F23:F24) -> 78643 | G22: =F22/D22*100 -> 100.2128 | H22: =H23+H24 -> 80348 | I22: =I23+I24 -> 79430 | J22: =J23+J24 -> 79570 | K22: =I22/H22*100 -> 98.85747
A23: - | B23: Đàn gia súc | C23: Con | D23: 23.522,0 | F23: 23704 | H23: 25362 | I23: ='PL 2'!I119 -> 24519 | J23: ='PL 2'!K119 -> 24647 | K23: =I23/H23*100 -> 96.67613
A24: - | B24: Đàn gia cầm | C24: Con | D24: 54.954,0 | F24: 54939 | H24: 54986 | I24: ='PL 2'!I126 -> 54911 | J24: ='PL 2'!K126 -> 54923 | K24: =I24/H24*100 -> 99.863602
A25: 5.4 | B25: Tổng sản lượng nuôi trồng thủy sản | C25: tấn | D25: 129.03 | F25: 129.03 | G25: =F25/D25*100 -> 100 | H25: 129.24146 | I25: ='PL 2'!I128 -> 85.33 | J25: ='PL 2'!K128 -> 96 | K25: =I25/H25*100 -> 66.023705
A26: II | B26: CHỈ TIÊU VĂN HÓA-XÃ HỘI
A27: 1 | B27: Dân số
A28: - | B28: Dân số có mặt đầu năm | C28: Người | D28: 18151 | F28: 18389 | G28: =F28/D28*100 -> 101.31122 | H28: 18.389 | I28: 18.389 | J28: =I28 -> 18.389 | K28: =I28/H28*100 -> 100
A29: - | B29: Tổng số người tăng trong năm (tăng TN) | C29: Người | D29: 274 | F29: 238 | G29: =F29/D29*100 -> 86.861314 | H29: 214 | I29: 173 | J29: ='PL 3'!J7 -> 195 | K29: =I29/H29*100 -> 80.841121
A30: - | B30: Dân số có mặt cuối năm | C30: Người | D30: 18370 | F30: 18389 | G30: =F30/D30*100 -> 100.10343 | H30: 18.603 | I30: 18.562 | J30: ='PL 3'!J8 -> 18584 | K30: =I30/H30*100 -> 99.779605
A31: - | B31: Dân số trung bình | C31: Người | D31: 18260 | F31: 18270 | G31: =F31/D31*100 -> 100.05476 | H31: 18.496 | I31: 18.475 | J31: ='PL 3'!J9 -> 18.4755 | K31: =I31/H31*100 -> 99.886462
A32: - | B32: Tỷ lệ tăng dân số tự nhiên | C32: % | D32: =D29/D28*100 -> 1.5095587 | F32: =F29/F28*100 -> 1.294252 | G32: =F32/D32*100 -> 85.73711 | H32: 1.31 | I32: 0.73 | J32: ='PL 3'!J10 -> 0.8 | K32: =I32/H32*100 -> 55.725191
A33: 2 | B33: Giảm nghèo theo chuẩn nghèo tiếp cận đa chiều
A34: - | B34: Tổng số hộ | C34: Hộ | D34: 4.030,0 | E34: 4619 | F34: 4028 | G34: =F34/D34*100 -> #VALUE! | H34: 4064 | I34: 4064 | J34: =I34 -> 4064 | K34: =I34/H34*100 -> 100
A35: - | B35: Số hộ nghèo | C35: Hộ | D35: 144 | E35: 44 | F35: 68 | G35: =F35/E35*100 -> 154.54545 | H35: 55 | I35: 0 | K35: =I35/H35*100 -> 0
A36: - | B36: Tỷ lệ hộ nghèo (chuẩn nghèo mới) | C36: % | D36: 1.89 | E36: 0.95 | F36: =F35/F34*100 -> 1.6881827 | H36: =H35/H34*100 -> 1.3533465 | I36: =I35/I34*100 -> 0 | K36: =I36/H36*100 -> 0
A37: - | B37: Số hộ nghèo giảm | C37: Hộ | D37: 76 | E37: 100 | F37: 76 | G37: =F37/E37*100 -> 76 | H37: 13 | I37: 0 | K37: =I37/H37*100 -> 0
A38: 3 | B38: Giáo dục và Đào tạo
A39: * | B39: Học sinh có mặt đầu năm | C39: Học sinh | D39: 5.085,0 | E39: =E40+E43+E47 -> 5351 | F39: =F40+F43+F47 -> 5124 | G39: =F39/E39*100 -> 95.757802 | H39: =H40+H43+H47 -> 5124 | I39: =I40+I43+I47 -> 5128 | J39: ='PL 3'!J12 -> 5240 | K39: =I39/H39*100 -> 100.07806
A40: - | B40: Giáo dục mầm non | C40: Học sinh | D40: 1.374,0 | E40: 1374 | F40: =SUM(F41:F42) -> 1372 | G40: =F40/E40*100 -> 99.85444 | H40: =H41+H42 -> 1400 | I40: =I41+I42 -> 1380 | J40: ='PL 3'!J13 -> 1473 | K40: =I40/H40*100 -> 98.571429
...

Sheet PL 2
A1: Phụ lục 2 KẾT QUẢ THỰC HIỆN CÁC CHỈ TIÊU NÔNG NGHIỆP 9 THÁNG NĂM 2026
A2: (kèm theo Báo cáo số /BC-UBND ngày tháng năm 2026 của UBND xã Kon Braih)
A3: TT | B3: Tên chỉ tiêu | C3: ĐVT | D3: KH năm 2025 | F3: Kết quả thực hiện | G3: Tỷ lệ thực hiện (%) | H3: Kế hoạch năm 2026 | I3: Thực hiện 8 tháng | J3: So sánh 2026 với 2025 | K3: thực hiện 9 tháng | L3: Tỉ lệ %
D4: NQ số 09 | E4: NQ số 17 | J4: + ; -
A5: 1 | B5: 2 | C5: 3 | D5: 4 | E5: 5 | F5: 6 | G5: 7 | H5: 4 | I5: 5 | J5: 6 | K5: 6 | L5: 7=5/4 | M5: 8=6/4
A6: A | B6: TRỒNG TRỌT
A7: * | B7: TỔNG DT GT (I+II+V) | C7: Ha | D7: 8226.25 | E7: =F10+F30+F53+F62+F44+F72+F110 -> 8251.11 | F7: =F8+F72+F110 -> 8251.11 | G7: 100 | H7: =H8+H72+H110 -> 8407.3 | I7: =I8+I72+I110 -> 8224.65 | J7: =H7-F7 -> 156.19 | K7: 8360.93 | L7: =I7/H7*100 -> 97.827483 | M7: =K7/H7*100 -> 99.448456 | O7: =O8+O72+O110 -> 4618.93
A8: I | B8: DT GT CÂY HN | C8: ha | D8: 3575.47 | F8: =F10+F30+F44+F53+F62 -> 3575.47 | G8: =F8/D8*100 -> 100 | H8: =H10+H30+H44+H53+H62 -> 3573.1 | I8: =I10+I30+I44+I53+I62 -> 3392.9 | J8: =H8-F8 -> -2.37 | K8: 3528.1 | L8: =I8/H8*100 -> 94.95676 | M8: =K8/H8*100 -> 98.740589 | O8: =O10+O30+O44+O53+O62 -> 3528.1
A9: 1 | B9: Lúa cả năm
A10: - | B10: Diện tích | C10: ha | D10: 802.8 | E10: 802.8 | F10: =F14+F18 -> 802.8 | G10: =F10/D10*100 -> 100 | H10: =H14+H18 -> 760 | I10: =I14+I18 -> 760 | J10: =H10-F10 -> -42.8 | K10: =K14+K18 -> 760 | L10: =I10/H10*100 -> 100 | M10: =K10/H10*100 -> 100 | O10: =O14+O18 -> 760
A11: - | B11: Năng suất | C11: tạ/ha | D11: 55.61 | E11: 59.98 | F11: 59.98 | G11: =F11/E11*100 -> 100 | H11: 61 | I11: 61 | J11: =H11-F11 -> 1.02 | K11: 61 | L11: =I11/H11*100 -> 100 | M11: =K11/H11*100 -> 100 | O11: 61
A12: - | B12: Sản lượng | C12: tấn | D12: =D10*D11/10 -> 4464.3708 | E12: 4735.27 | F12: 4735.27 | G12: =F12/E12*100 -> 100 | H12: 4621 | I12: 4621 | J12: =H12-F12 -> -114.27 | K12: 4621 | L12: =I12/H12*100 -> 100 | M12: =K12/H12*100 -> 100 | O12: 4621
A13: 1.1 | B13: Lúa Đông xuân
A14: - | B14: Diện tích | C14: ha | D14: 289 | F14: 289 | G14: =F14/D14*100 -> 100 | H14: 290 | I14: 290 | J14: =H14-F14 -> 1 | K14: 290 | L14: =I14/H14*100 -> 100 | M14: =K14/H14*100 -> 100 | O14: 290
A15: - | B15: Năng suất | C15: tạ/ha | D15: 66.23 | F15: 66.23 | G15: =F15/D15*100 -> 100 | H15: 68.92 | I15: 68.92 | J15: =H15-F15 -> 2.69 | K15: 68.92 | L15: =I15/H15*100 -> 100 | M15: =K15/H15*100 -> 100 | O15: 68.92
A16: - | B16: Sản lượng | C16: tấn | D16: =D14*D15/10 -> 1914.047 | F16: =F14*F15/10 -> 1914.047 | G16: =F16/D16*100 -> 100 | H16: =H14*H15/10 -> 1998.68 | I16: =I14*I15/10 -> 1998.68 | J16: =H16-F16 -> 84.633 | K16: 1998.68 | L16: =I16/H16*100 -> 100 | M16: =K16/H16*100 -> 100 | O16: =O14*O15/10 -> 1998.68
A17: 1.2 | B17: Lúa vụ mùa
A18: - | B18: Diện tích | C18: ha | D18: 513.8 | F18: 513.8 | G18: =F18/D18*100 -> 100 | H18: =H22+H26 -> 470 | I18: =I22+I26 -> 470 | J18: =H18-F18 -> -43.8 | K18: 470 | L18: =I18/H18*100 -> 100 | M18: =K18/H18*100 -> 100 | O18: =O22+O26 -> 470
A19: - | B19: Năng suất | C19: tạ/ha | D19: 61.184383 | F19: 61.184383 | G19: =F19/D19*100 -> 100 | H19: 61.2 | J19: =H19-F19 -> 0.015617128 | L19: =I19/H19*100 -> 0 | M19: =K19/H19*100 -> 0
A20: - | B20: Sản lượng | C20: tấn | D20: =D18*D19/10 -> 3143.6536 | F20: =F18*F19/10 -> 3143.6536 | G20: =F20/D20*100 -> 100 | H20: =H18*H19/10 -> 2876.4 | I20: =I18*I19/10 -> 0 | J20: =H20-F20 -> -267.25359 | K20: 0 | L20: =I20/H20*100 -> 0 | M20: =K20/H20*100 -> 0 | O20: =O18*O19/10 -> 0
A21: 1.2.1 | B21: Trong đó: Ruộng
A22: - | B22: Diện tích | C22: ha | D22: 367 | F22: 367 | G22: =F22/D22*100 -> 100 | H22: 367 | I22: 367 | J22: =H22-F22 -> 0 | K22: 367 | L22: =I22/H22*100 -> 100 | M22: =K22/H22*100 -> 100 | O22: 367
A23: - | B23: Năng suất | C23: tạ/ha | D23: 64.7 | F23: 64.7 | G23: =F23/D23*100 -> 100 | H23: 64.7 | J23: =H23-F23 -> 0 | L23: =I23/H23*100 -> 0 | M23: =K23/H23*100 -> 0
A24: - | B24: Sản lượng | C24: tấn | D24: =D22*D23/10 -> 2374.49 | F24: =F22*F23/10 -> 2374.49 | G24: =F24/D24*100 -> 100 | H24: =H22*H23/10 -> 2374.49 | I24: =I22*I23/10 -> 0 | J24: =H24-F24 -> 0 | K24: 0 | L24: =I24/H24*100 -> 0 | M24: =K24/H24*100 -> 0 | O24: =O22*O23/10 -> 0
A25: 1.2.2 | B25: Lúa ô nà (rẫy)
A26: - | B26: Diện tích | C26: ha | D26: 146.8 | F26: 146.8 | G26: =F26/D26*100 -> 100 | H26: 103 | I26: 103 | J26: =H26-F26 -> -43.8 | K26: 103 | L26: =I26/H26*100 -> 100 | M26: =K26/H26*100 -> 100 | O26: 103
A27: - | B27: Năng suất | C27: tạ/ha | D27: 22.95 | F27: 22.95 | G27: =F27/D27*100 -> 100 | H27: 22.95 | J27: =H27-F27 -> 0 | L27: =I27/H27*100 -> 0 | M27: =K27/H27*100 -> 0
A28: - | B28: Sản lượng | C28: tấn | D28: =D26*D27/10 -> 336.906 | F28: =F26*F27/10 -> 336.906 | G28: =F28/D28*100 -> 100 | H28: =H26*H27/10 -> 236.385 | J28: =H28-F28 -> -100.521 | L28: =I28/H28*100 -> 0 | M28: =K28/H28*100 -> 0
A29: 2 | B29: Ngô cả năm
A30: - | B30: Diện tích | C30: ha | D30: 355 | E30: 355 | F30: 355 | G30: =F30/D30*100 -> 100 | H30: 350 | I30: =I33+I37+I41 -> 348 | J30: =H30-F30 -> -5 | K30: 349 | L30: =I30/H30*100 -> 99.428571 | M30: =K30/H30*100 -> 99.714286 | O30: =O33+O37+O41 -> 349
A31: - | B31: Năng suất | C31: tạ/ha | D31: 61.18 | E31: 63.04 | F31: 63.04 | G31: =F31/E31*100 -> 100 | H31: 63 | I31: 63 | J31: =H31-F31 -> -0.04 | K31: 63 | L31: =I31/H31*100 -> 100 | M31: =K31/H31*100 -> 100 | O31: 63
A32: - | B32: Sản lượng | C32: tấn | D32: =D30*D31/10 -> 2171.89 | E32: 2237.8 | F32: 2237.8 | G32: =F32/E32*100 -> 100 | H32: 2277.72 | I32: 2277.72 | J32: =H32-F32 -> 39.92 | K32: 2277.72 | L32: =I32/H32*100 -> 100 | M32: =K32/H32*100 -> 100 | O32: 2277.72
A33: 2.1 | B33: Ngô vụ Đông Xuân | C33: ha | D33: 4 | F33: 4 | G33: =F33/D33*100 -> 100 | H33: 4 | I33: 4 | J33: =H33-F33 -> 0 | K33: 4 | L33: =I33/H33*100 -> 100 | M33: =K33/H33*100 -> 100 | O33: 4
A34: - | B34: Năng suất | C34: tạ/ha | D34: 56.4 | F34: 56.4 | G34: =F34/D34*100 -> 100 | H34: 57.62 | I34: 57.62 | J34: =H34-F34 -> 1.22 | K34: 57.62 | L34: =I34/H34*100 -> 100 | M34: =K34/H34*100 -> 100 | O34: 57.62
A35: - | B35: Sản lượng | C35: tấn | D35: =D33*D34/10 -> 22.56 | F35: =F33*F34/10 -> 22.56 | G35: =F35/D35*100 -> 100 | H35: =H33*H34/10 -> 23.048 | I35: =I33*I34/10 -> 23.048 | J35: =H35-F35 -> 0.488 | K35: 23.048 | L35: =I35/H35*100 -> 100 | M35: =K35/H35*100 -> 100 | O35: =O33*O34/10 -> 23.048
A36: 2.2 | B36: Ngô vụ 1
A37: - | B37: Diện tích | C37: ha | D37: 264 | F37: 264 | G37: =F37/D37*100 -> 100 | H37: 258 | I37: 258 | J37: =H37-F37 -> -6 | K37: 258 | L37: =I37/H37*100 -> 100 | M37: =K37/H37*100 -> 100 | O37: 258
A38: - | B38: Năng suất | C38: tạ/ha | D38: 61.4 | F38: 61.4 | G38: =F38/D38*100 -> 100 | H38: 63.459 | I38: 63.459 | J38: =H38-F38 -> 2.059 | K38: 63.459 | L38: =I38/H38*100 -> 100 | M38: =K38/H38*100 -> 100 | O38: 63.459
A39: - | B39: Sản lượng | C39: tấn | D39: =D37*D38/10 -> 1620.96 | F39: =F37*F38/10 -> 1620.96 | G39: =F39/D39*100 -> 100 | H39: =H37*H38/10 -> 1637.2422 | I39: =I37*I38/10 -> 1637.2422 | J39: =H39-F39 -> 16.2822 | K39: 1637.2422 | L39: =I39/H39*100 -> 100 | M39: =K39/H39*100 -> 100 | O39: =O37*O38/10 -> 1637.2422
A40: 2.3 | B40: Ngô vụ 2
...

Sheet PL 3
A1: Phụ lục 3 KẾT QUẢ THỰC HIỆN CHỈ TIÊU VĂN HÓA- XÃ HỘI 9 THÁNG NĂM 2026
A2: (kèm theo Báo cáo số /BC-UBND ngày tháng năm 2026 của UBND xã Kon Braih)
A4: TT | B4: Chỉ tiêu | C4: Đơn vị tính | D4: Kế hoạch 2025 | F4: Kết quả thực hiện | G4: % so với kế hoạch | H4: Kế hoạch năm 2026 | I4: Thực hiện 8 tháng | J4: Thực hiện 9 tháng | K4: Tỉ lệ %
A5: 1 | B5: Dân số | H5: 1 | I5: 2 | J5: 3 | K5: 4=2/1*100 | L5: 5=3/1*100
A6: - | B6: Dân số có mặt đầu năm | C6: Người | D6: 18151 | F6: 18389 | G6: 101.31122 | H6: 18.389 | I6: =H6 -> 18.389 | J6: 18389 | K6: 100 | L6: =K6 -> 100 | N6: 18389
A7: - | B7: Tổng số người tăng trong năm (tăng TN) | C7: Người | D7: 274 | F7: 238 | G7: 86.861314 | H7: 214 | I7: 173 | J7: 195 | K7: =I7/H7*100 -> 80.841121 | L7: =J7/H7*100 -> 91.121495 | N7: 195
A8: - | B8: Dân số có mặt cuối năm | C8: Người | D8: 18370 | F8: 18389 | G8: 100.10343 | H8: 18.603 | I8: 18.562 | J8: 18584 | K8: =I8/H8*100 -> 99.779605 | L8: =J8/H8*100 -> 99897.866 | N8: 18584
A9: - | B9: Dân số trung bình | C9: Người | D9: 18260 | F9: 18270 | G9: 100.05476 | H9: 18.496 | I9: =(I6+I8)/2 -> 18.4755 | J9: =I9 -> 18.4755 | K9: =I9/H9*100 -> 99.889165 | L9: =J9/H9*100 -> 99.889165 | N9: 18486.5
A10: - | B10: Tỷ lệ tăng dân số tự nhiên | C10: % | D10: 1.5095587 | F10: 1.294252 | G10: 85.73711 | H10: 1.31 | I10: 0.73 | J10: 0.8 | K10: =I10/H10*100 -> 55.725191 | L10: =J10/H10*100 -> 61.068702 | N10: 0.8
A11: 2 | B11: Giáo dục và Đào tạo
A12: * | B12: Học sinh có mặt đầu năm | C12: Học sinh | D12: 5.085,0 | E12: 5351 | F12: 5124 | G12: 95.757802 | H12: 5124 | I12: 5128 | J12: =J13+J16+J20 -> 5240 | K12: =I12/H12*100 -> 100.07806 | L12: =J12/H12*100 -> 102.26386 | N12: =N13+N16+N20 -> 5240
A13: - | B13: Giáo dục mầm non | C13: Học sinh | D13: 1.374,0 | E13: 1374 | F13: 1372 | G13: 99.85444 | H13: 1400 | I13: 1380 | J13: 1473 | K13: =I13/H13*100 -> 98.571429 | L13: =J13/H13*100 -> 105.21429 | N13: =N14+N15 -> 1473
A14: + | B14: Nhà trẻ | C14: Học sinh | D14: 175 | F14: 197 | G14: 112.57143 | H14: 208 | I14: 204 | J14: 243 | K14: =I14/H14*100 -> 98.076923 | L14: =J14/H14*100 -> 116.82692 | N14: =118+125 -> 243
A15: + | B15: Mẫu giáo | C15: Học sinh | D15: 1.199,0 | F15: 1175 | G15: 97.998332 | H15: 1192 | I15: 1176 | J15: 1230 | K15: =I15/H15*100 -> 98.657718 | L15: =J15/H15*100 -> 103.18792 | N15: =640+590 -> 1230
A16: - | B16: Giáo dục phổ thông | C16: Học sinh | D16: 3.646,0 | E16: 3912 | F16: 3687 | G16: 94.248466 | H16: 3659 | I16: 3683 | J16: 3702 | K16: =I16/H16*100 -> 100.65592 | L16: =J16/H16*100 -> 101.17518 | N16: =N17+N18 -> 3702
A17: + | B17: TH | C17: Học sinh | D17: 2.176,0 | E17: 2189 | F17: 2173 | G17: 99.269073 | H17: 2189 | I17: 2169 | J17: 2120 | K17: =I17/H17*100 -> 99.086341 | L17: =J17/H17*100 -> 96.847876 | N17: =1007+1113 -> 2120
A18: + | B18: THCS | C18: Học sinh | D18: 1.470,0 | E18: 1723 | F18: 1514 | G18: 87.869994 | H18: 1470 | I18: 1514 | J18: 1582 | K18: =I18/H18*100 -> 102.9932 | L18: =J18/H18*100 -> 107.61905 | N18: =826+756 -> 1582
A19: + | B19: THPT | C19: Học sinh | D19: -
A20: - | B20: Bổ túc văn hóa | C20: Học sinh | D20: 65 | E20: 65 | F20: 65 | G20: 100 | H20: 65 | I20: 65 | J20: 65 | K20: =I20/H20*100 -> 100 | L20: =J20/H20*100 -> 100 | N20: 65
A21: * | B21: Tỷ lệ huy động học sinh đi học đúng độ tuổi | C21: %
A22: - | B22: Trong độ tuổi đi học mẫu giáo (từ 3-5 tuổi) | C22: % | D22: 98 | F22: 100 | G22: 102.04082 | H22: 100 | I22: 100 | J22: =I22 -> 100 | K22: =I22/H22*100 -> 100 | L22: =J22/H22*100 -> 100 | N22: 100
A23: - | B23: Học sinh mẫu giáo 5 tuổi | C23: % | D23: 100 | F23: 100 | G23: 100 | H23: 100 | I23: 100 | J23: =I23 -> 100 | K23: =I23/H23*100 -> 100 | L23: =J23/H23*100 -> 100 | N23: 100
A24: - | B24: Học sinh tiểu học | C24: % | D24: 100 | F24: 100 | G24: 100 | H24: 100 | I24: 100 | J24: =I24 -> 100 | K24: =I24/H24*100 -> 100 | L24: =J24/H24*100 -> 100 | N24: 100
A25: - | B25: Học sinh THCS | C25: % | D25: 98 | F25: 98 | G25: 100 | H25: 99 | I25: 99 | J25: =I25 -> 99 | K25: =I25/H25*100 -> 100 | L25: =J25/H25*100 -> 100 | N25: 99
A26: - | B26: Huy động trẻ 6-10 tuổi vào tiểu học | C26: % | D26: 100 | F26: 100 | G26: 100 | H26: 100 | I26: 100 | J26: =I26 -> 100 | K26: =I26/H26*100 -> 100 | L26: =J26/H26*100 -> 100 | N26: 100
A27: - | B27: Huy động trẻ 11-14 vào THCS | C27: % | D27: 98 | F27: 98 | G27: 100 | H27: 98.7 | I27: 98.5 | J27: =I27 -> 98.5 | K27: =I27/H27*100 -> 99.797366 | L27: =J27/H27*100 -> 99.797366 | N27: 98.5
A28: - | B28: Tỷ lệ phổ cập GDTH đúng độ tuổi | C28: % | D28: 90 | F28: 96.7 | G28: 107.44444 | H28: 97.3 | I28: 97 | J28: =I28 -> 97 | K28: =I28/H28*100 -> 99.691675 | L28: =J28/H28*100 -> 99.691675 | N28: 97
A29: - | B29: Học sinh mẫu giáo 5 tuổi | C29: % | D29: 100 | F29: 100 | G29: 100 | J29: =I29 -> 0 | K29: =I29/H29*100 -> #DIV/0! | L29: =J29/H29*100 -> #DIV/0!
A30: - | B30: Học sinh tiểu học | C30: % | D30: 100 | F30: 100 | G30: 100 | J30: =I30 -> 0 | K30: =I30/H30*100 -> #DIV/0! | L30: =J30/H30*100 -> #DIV/0!
A31: - | B31: Học sinh THCS | C31: % | D31: 98 | F31: 98 | G31: 100 | J31: =I31 -> 0 | K31: =I31/H31*100 -> #DIV/0! | L31: =J31/H31*100 -> #DIV/0!
A32: - | B32: Tỷ lệ PCGD tiểu học đúng độ tuổi | C32: % | D32: 96.7 | F32: 96.7 | G32: 100 | J32: =I32 -> 0 | K32: =I32/H32*100 -> #DIV/0! | L32: =J32/H32*100 -> #DIV/0!
A33: - | B33: Tỷ lệ phổ cập THCS | C33: % | D33: 93.7 | F33: 95 | G33: 101.38741 | H33: 95 | I33: 95 | J33: =I33 -> 95 | K33: =I33/H33*100 -> 100 | L33: =J33/H33*100 -> 100
A34: - | B34: Tỷ lệ xã được công nhận giáo dục Mầm non 5 tuổi | C34: % | D34: 100 | F34: 100 | G34: 100 | H34: 100 | I34: 100 | J34: =I34 -> 100 | K34: =I34/H34*100 -> 100 | L34: =J34/H34*100 -> 100
A35: - | B35: Số trường đạt chuẩn quốc gia | C35: trường | D35: 8 | F35: 7 | G35: 87.5 | H35: 7 | I35: 7 | J35: =I35 -> 7 | K35: =I35/H35*100 -> 100 | L35: =J35/H35*100 -> 100
A36: 3 | B36: Y tế - Văn hóa
A37: - | B37: Tổng số giường bệnh | C37: Giường | D37: 115 | F37: 115 | H37: 115 | I37: ='[1]PL 1'!$I$31 -> 115 | J37: =I37 -> 115 | K37: =I37/H37*100 -> 100 | L37: =J37/H37*100 -> 100 | N37: 115
A38: + | B38: Bệnh viện | C38: Giường | D38: 100 | F38: 100 | G38: 100 | H38: 100 | I38: 100 | J38: =I38 -> 100 | K38: =I38/H38*100 -> 100 | L38: =J38/H38*100 -> 100 | N38: 100
B39: Phòng khám khu vực | C39: Giường | D39: - | F39: - | J39: =I39 -> 0
A40: + | B40: Trạm Y tế | C40: Giường | D40: 15 | F40: 15 | G40: 100 | H40: 15 | I40: 100 | J40: =I40 -> 100 | K40: =I40/H40*100 -> 666.66667 | L40: =J40/H40*100 -> 666.66667 | N40: 15
A41: - | B41: Tỷ lệ xã có trạm Y tế | C41: % | D41: 100 | F41: 100 | G41: 100 | H41: 100 | I41: 100 | J41: =I41 -> 100 | K41: =I41/H41*100 -> 100 | L41: =J41/H41*100 -> 100 | N41: 100
...
