Workbook
Name _1: #N/A
Name _1000A01: #N/A
Name _2: #N/A
Name _CON1: #REF!
Name _CON1: #REF!
Name _CON2: #REF!
Name _CON2: #REF!
Name _lap1: #REF!
Name _lap1: #REF!
Name _lap2: #REF!
Name _lap2: #REF!
Name _NET2: #REF!
Name _NET2: #REF!
Name A01_: #N/A
Name A01AC: #N/A
Name A01CAT: #N/A
Name A01CODE: #N/A
Name A01DATA: #N/A
Name A01MI: #N/A
Name A01TO: #N/A
Name AA: #REF!
Name AA: #REF!
Name All_Item: #REF!
Name All_Item: #REF!
Name ALPIN: #N/A
Name ALPJYOU: #N/A
Name ALPTOI: #N/A
Name BB: #REF!
Name BB: #REF!
Name BOQ: #REF!
Name BOQ: #REF!
Name BVCISUMMARY: #REF!
Name BVCISUMMARY: #REF!
Name cap: #REF!
Name cap: #REF!
Name cap0.7: #REF!
Name cap0.7: #REF!
Name Category_All: #REF!
Name Category_All: #REF!
Name CATIN: #N/A
Name CATJYOU: #N/A
Name CATREC: #N/A
Name CATSYU: #N/A
Name CL: #REF!
Name CL: #REF!
Name COMMON: #REF!
Name COMMON: #REF!
Name CON_EQP_COS: #REF!
Name CON_EQP_COS: #REF!
Name CON_EQP_COST: #REF!
Name CON_EQP_COST: #REF!
Name CONST_EQ: #REF!
Name CONST_EQ: #REF!
Name COVER: #REF!
Name COVER: #REF!
Name CRITINST: #REF!
Name CRITINST: #REF!
Name CRITPURC: #REF!
Name CRITPURC: #REF!
Name CS_10: #REF!

Sheet foxz

Sheet PL 1
A1: Phụ lục 1 ĐÁNH GIÁ CHỈ TIÊU KINH TẾ - XÃ HỘI 9 THÁNG NĂM 2026 (kèm theo Báo cáo số /BC-UBND ngày tháng năm 2026 của UBND xã Kon Braih)
A2: TT | B2: Chỉ tiêu | C2: Đơn vị tính | D2: Kế hoạch 2025 | F2: Kết quả thực hiện | G2: % so với kế hoạch | H2: Kế hoạch năm 2026 | I2: Thực hiện đến 8 tháng | J2: thực hiện 9 tháng | K2: Tỉ lệ %
D3: NQ số 09 | E3: NQ số 17
A4: I | B4: CHỈ TIÊU KINH TẾ | C4: 1 | H4: 2 | I4: 3 | J4: 4 | K4: 5=3/2
A5: 1 | B5: Thu nhập bình quân đầu người | C5: Tr.đồng/người/năm | D5: 55.79 | F5: 55.79 | G5: =F5/D5*100 -> 100 | H5: 59 | I5: Đánh giá cuối năm | K5: 0
A6: 2 | B6: Tổng giá trị sản xuất | C6: Tỷ đồng | D6: 1.134,466 | F6: =SUM(F7:F9) -> 1222.85 | G6: =F6/D6*100 -> #VALUE! | H6: =SUM(H7:H9) -> 1325.9027 | I6: =SUM(I7:I9) -> 1000 | J6: =I6 -> 1000 | K6: =I6/H6*100 -> 75.420317
A7: - | B7: Nông lâm - Thủy sản | C7: Tỷ đồng | D7: 767.167 | F7: 575.52 | G7: =F7/D7*100 -> 75.018868 | H7: 635.31542 | I7: 425 | J7: =I7 -> 425 | K7: =I7/H7*100 -> 66.895905 | N7: =I10+J11 -> 194.953
A8: - | B8: Công nghiệp - Xây dựng | C8: Tỷ đồng | D8: 87.433 | F8: 297.04 | G8: =F8/D8*100 -> 339.73443 | H8: 329.49902 | I8: 260 | J8: =I8 -> 260 | K8: =I8/H8*100 -> 78.907669
A9: - | B9: Thương mại - Dịch vụ | C9: Tỷ đồng | D9: 304.365 | F9: 350.29 | G9: =F9/D9*100 -> 115.08879 | H9: 361.08822 | I9: 315 | J9: =I9 -> 315 | K9: =I9/H9*100 -> 87.236298 | N9: =H7 -> 635.31542 | O9: =N9/12 -> 52.942952
A10: 3 | B10: Thu NSNN | C10: Tỷ đồng | D10: 98.107 | F10: 98.107 | G10: =F10/D10*100 -> 100 | H10: 163.531 | I10: 176.168 | J10: 189.269 | K10: =I10/H10*100 -> 107.72759 | N10: =H8 -> 329.49902 | O10: =N10/12 -> 27.458252
B11: Trong đó: Thu NSNN trên địa bàn | C11: Tỷ đồng | D11: 34.065 | F11: 39.037 | G11: =F11/D11*100 -> 114.59563 | H11: 24.625 | I11: 15.639 | J11: 18.785 | K11: =I11/H11*100 -> 63.508629 | N11: =H9 -> 361.08822 | O11: =N11/12 -> 30.090685
A12: 4 | B12: Chi NSNN | C12: Tỷ đồng | D12: 98.107 | F12: 98.107 | G12: =F12/D12*100 -> 100 | H12: 163.531 | I12: 109.643 | J12: 126.795 | K12: =I12/H12*100 -> 67.047227
A13: 5 | B13: Nông nghiệp
A14: 5.1 | B14: Tổng diện tích gieo trồng | C14: Ha | D14: =SUM(D15:D17) -> 8226.25 | F14: =SUM(F15:F17) -> 8227.35 | G14: =F14/D14*100 -> 100.01337 | H14: =SUM(H15:H17) -> 8407.3 | I14: =SUM(I15:I17) -> 8224.65 | J14: =J15+J16+J17 -> 8360.93 | K14: =I14/H14*100 -> 97.827483
A15: + | B15: Diện tích gieo trồng cây hàng năm | C15: Ha | D15: 3575.47 | F15: 3575.47 | G15: =F15/D15*100 -> 100 | H15: 3573.1 | I15: ='PL 2'!I8 -> 3392.9 | J15: ='PL 2'!K8 -> 3528.1 | K15: =I15/H15*100 -> 94.95676
A16: + | B16: Diện tích gieo trồng cây lâu năm | C16: Ha | D16: 4545.88 | F16: 4546.98 | G16: =F16/D16*100 -> 100.0242 | H16: 4729.3 | I16: ='PL 2'!I72 -> 4726.85 | J16: ='PL 2'!K72 -> 4727.93 | K16: =I16/H16*100 -> 99.948195
A17: + | B17: Diện tích gieo trồng cây dược liệu | C17: Ha | D17: 104.9 | F17: 104.9 | G17: =F17/D17*100 -> 100 | H17: 104.9 | I17: 104.9 | J17: ='PL 2'!K110 -> 104.9 | K17: =I17/H17*100 -> 100
A18: 5.2 | B18: Diện tích cây khác | C18: Ha | D18: 115873 | F18: =F19+F20 -> 1157.93 | G18: =F18/D18*100 -> 0.99930959 | H18: =SUM(H19:H20) -> 4288.93 | I18: =SUM(I19:I20) -> 1038.67 | J18: =J19+J20 -> 1061.67 | K18: =I18/H18*100 -> 24.217462 | N18: =J19+J20 -> 1061.67
A19: - | B19: Bời Lời | C19: Ha | D19: 447.9 | F19: 447.1 | H19: ='PL 2'!K8 -> 3528.1 | I19: ='PL 2'!I99 -> 377.84 | J19: ='PL 2'!K99 -> 377.84 | K19: =I19/H19*100 -> 10.709447
A20: - | B20: Diện tích rừng trồng | C20: Ha | D20: 710.83 | F20: 710.83 | H20: =F20+H21 -> 760.83 | I20: ='PL 2'!I101 -> 660.83 | J20: ='PL 2'!K100 -> 683.83 | K20: =I20/H20*100 -> 86.856459
A21: + | B21: Diện tích rừng trồng mới | D21: 50 | F21: 50 | H21: 50 | I21: 43 | J21: ='PL 2'!K102 -> 53.5 | K21: =I21/H21*100 -> 86
A22: 5.3 | B22: Chăn nuôi | D22: 78476 | F22: =SUM(F23:F24) -> 78643 | G22: =F22/D22*100 -> 100.2128 | H22: =H23+H24 -> 80348 | I22: =I23+I24 -> 79430 | J22: =J23+J24 -> 79570 | K22: =I22/H22*100 -> 98.85747
A23: - | B23: Đàn gia súc | C23: Con | D23: 23.522,0 | F23: 23704 | H23: 25362 | I23: ='PL 2'!I119 -> 24519 | J23: ='PL 2'!K119 -> 24647 | K23: =I23/H23*100 -> 96.67613
A24: - | B24: Đàn gia cầm | C24: Con | D24: 54.954,0 | F24: 54939 | H24: 54986 | I24: ='PL 2'!I126 -> 54911 | J24: ='PL 2'!K126 -> 54923 | K24: =I24/H24*100 -> 99.863602
A25: 5.4 | B25: Tổng sản lượng nuôi trồng thủy sản | C25: tấn | D25: 129.03 | F25: 129.03 | G25: =F25/D25*100 -> 100 | H25: 129.24146 | I25: ='PL 2'!I128 -> 85.33 | J25: ='PL 2'!K128 -> 96 | K25: =I25/H25*100 -> 66.023705
A26: II | B26: CHỈ TIÊU VĂN HÓA-XÃ HỘI
A27: 1 | B27: Dân số
A28: - | B28: Dân số có mặt đầu năm | C28: Người | D28: 18151 | F28: 18389 | G28: =F28/D28*100 -> 101.31122 | H28: 18.389 | I28: 18.389 | J28: =I28 -> 18.389 | K28: =I28/H28*100 -> 100
A29: - | B29: Tổng số người tăng trong năm (tăng TN) | C29: Người | D29: 274 | F29: 238 | G29: =F29/D29*100 -> 86.861314 | H29: 214 | I29: 173 | J29: ='PL 3'!J7 -> 195 | K29: =I29/H29*100 -> 80.841121
A30: - | B30: Dân số có mặt cuối năm | C30: Người | D30: 18370 | F30: 18389 | G30: =F30/D30*100 -> 100.10343 | H30: 18.603 | I30: 18.562 | J30: ='PL 3'!J8 -> 18584 | K30: =I30/H30*100 -> 99.779605
A31: - | B31: Dân số trung bình | C31: Người | D31: 18260 | F31: 18270 | G31: =F31/D31*100 -> 100.05476 | H31: 18.496 | I31: 18.475 | J31: ='PL 3'!J9 -> 18.4755 | K31: =I31/H31*100 -> 99.886462
A32: - | B32: Tỷ lệ tăng dân số tự nhiên | C32: % | D32: =D29/D28*100 -> 1.5095587 | F32: =F29/F28*100 -> 1.294252 | G32: =F32/D32*100 -> 85.73711 | H32: 1.31 | I32: 0.73 | J32: ='PL 3'!J10 -> 0.8 | K32: =I32/H32*100 -> 55.725191
A33: 2 | B33: Giảm nghèo theo chuẩn nghèo tiếp cận đa chiều
A34: - | B34: Tổng số hộ | C34: Hộ | D34: 4.030,0 | E34: 4619 | F34: 4028 | G34: =F34/D34*100 -> #VALUE! | H34: 4064 | I34: 4064 | J34: =I34 -> 4064 | K34: =I34/H34*100 -> 100
A35: - | B35: Số hộ nghèo | C35: Hộ | D35: 144 | E35: 44 | F35: 68 | G35: =F35/E35*100 -> 154.54545 | H35: 55 | I35: 0 | K35: =I35/H35*100 -> 0
A36: - | B36: Tỷ lệ hộ nghèo (chuẩn nghèo mới) | C36: % | D36: 1.89 | E36: 0.95 | F36: =F35/F34*100 -> 1.6881827 | H36: =H35/H34*100 -> 1.3533465 | I36: =I35/I34*100 -> 0 | K36: =I36/H36*100 -> 0
A37: - | B37: Số hộ nghèo giảm | C37: Hộ | D37: 76 | E37: 100 | F37: 76 | G37: =F37/E37*100 -> 76 | H37: 13 | I37: 0 | K37: =I37/H37*100 -> 0
A38: 3 | B38: Giáo dục và Đào tạo
A39: * | B39: Học sinh có mặt đầu năm | C39: Học sinh | D39: 5.085,0 | E39: =E40+E43+E47 -> 5351 | F39: =F40+F43+F47 -> 5124 | G39: =F39/E39*100 -> 95.757802 | H39: =H40+H43+H47 -> 5124 | I39: =I40+I43+I47 -> 5128 | J39: ='PL 3'!J12 -> 5240 | K39: =I39/H39*100 -> 100.07806
A40: - | B40: Giáo dục mầm non | C40: Học sinh | D40: 1.374,0 | E40: 1374 | F40: =SUM(F41:F42) -> 1372 | G40: =F40/E40*100 -> 99.85444 | H40: =H41+H42 -> 1400 | I40: =I41+I42 -> 1380 | J40: ='PL 3'!J13 -> 1473 | K40: =I40/H40*100 -> 98.571429
A41: + | B41: Nhà trẻ | C41: Học sinh | D41: 175 | F41: 197 | G41: =F41/D41*100 -> 112.57143 | H41: 208 | I41: 204 | J41: ='PL 3'!J14 -> 243 | K41: =I41/H41*100 -> 98.076923
A42: + | B42: Mẫu giáo | C42: Học sinh | D42: 1.199,0 | F42: 1175 | G42: =F42/D42*100 -> #VALUE! | H42: =1175+17 -> 1192 | I42: 1176 | J42: ='PL 3'!J15 -> 1230 | K42: =I42/H42*100 -> 98.657718
A43: - | B43: Giáo dục phổ thông | C43: Học sinh | D43: 3.646,0 | E43: =SUM(E44:E45) -> 3912 | F43: =SUM(F44:F45) -> 3687 | G43: =F43/E43*100 -> 94.248466 | H43: =H44+H45 -> 3659 | I43: =I44+I45 -> 3683 | J43: ='PL 3'!J16 -> 3702 | K43: =I43/H43*100 -> 100.65592
A44: + | B44: TH | C44: Học sinh | D44: 2.176,0 | E44: 2189 | F44: 2173 | G44: =F44/E44*100 -> 99.269073 | H44: 2189 | I44: 2169 | J44: ='PL 3'!J17 -> 2120 | K44: =I44/H44*100 -> 99.086341
A45: + | B45: THCS | C45: Học sinh | D45: 1.470,0 | E45: 1723 | F45: 1514 | G45: =F45/E45*100 -> 87.869994 | H45: 1470 | I45: 1514 | J45: ='PL 3'!J18 -> 1582 | K45: =I45/H45*100 -> 102.9932
A46: + | B46: THPT | C46: Học sinh | D46: - | J46: ='PL 3'!J19 -> 0
A47: - | B47: Bổ túc văn hóa | C47: Học sinh | D47: 65 | E47: 65 | F47: 65 | G47: =F47/D47*100 -> 100 | H47: 65 | I47: 65 | J47: 65 | K47: =I47/H47*100 -> 100
A48: * | B48: Tỷ lệ huy động học sinh đi học đúng độ tuổi | C48: %
A49: - | B49: Trong độ tuổi đi học mẫu giáo (từ 3-5 tuổi) | C49: % | D49: 98 | F49: 100 | G49: =F49/D49*100 -> 102.04082 | H49: 100 | I49: ='PL 3'!I22 -> 100 | J49: ='PL 3'!J22 -> 100 | K49: =I49/H49*100 -> 100
A50: - | B50: Học sinh mẫu giáo 5 tuổi | C50: % | D50: 100 | F50: 100 | G50: =F50/D50*100 -> 100 | H50: 100 | I50: ='PL 3'!I23 -> 100 | J50: ='PL 3'!J23 -> 100 | K50: =I50/H50*100 -> 100
A51: - | B51: Học sinh tiểu học | C51: % | D51: 100 | F51: 100 | G51: =F51/D51*100 -> 100 | H51: 100 | I51: ='PL 3'!I24 -> 100 | J51: ='PL 3'!J24 -> 100 | K51: =I51/H51*100 -> 100
A52: - | B52: Học sinh THCS | C52: % | D52: 98 | F52: 98 | G52: =F52/D52*100 -> 100 | H52: 99 | I52: ='PL 3'!I25 -> 99 | J52: ='PL 3'!J25 -> 99 | K52: =I52/H52*100 -> 100
A53: - | B53: Huy động trẻ 6-10 tuổi vào tiểu học | C53: % | D53: 100 | F53: 100 | G53: =F53/D53*100 -> 100 | H53: 100 | I53: ='PL 3'!I26 -> 100 | J53: ='PL 3'!J26 -> 100 | K53: =I53/H53*100 -> 100
A54: - | B54: Huy động trẻ 11-14 vào THCS | C54: % | D54: 98 | F54: 98 | G54: =F54/D54*100 -> 100 | H54: 98.7 | I54: ='PL 3'!I27 -> 98.5 | J54: ='PL 3'!J27 -> 98.5 | K54: =I54/H54*100 -> 99.797366
A55: - | B55: Tỷ lệ phổ cập GDTH đúng độ tuổi | C55: % | D55: 90 | F55: 96.7 | G55: =F55/D55*100 -> 107.44444 | H55: 97.3 | I55: ='PL 3'!I28 -> 97 | J55: ='PL 3'!J28 -> 97 | K55: =I55/H55*100 -> 99.691675
A56: - | B56: Học sinh mẫu giáo 5 tuổi | C56: % | D56: 100 | F56: 100 | G56: =F56/D56*100 -> 100 | I56: ='PL 3'!I29 -> 0 | J56: ='PL 3'!J29 -> 0
A57: - | B57: Học sinh tiểu học | C57: % | D57: 100 | F57: 100 | G57: =F57/D57*100 -> 100 | I57: ='PL 3'!I30 -> 0 | J57: ='PL 3'!J30 -> 0
A58: - | B58: Học sinh THCS | C58: % | D58: 98 | F58: 98 | G58: =F58/D58*100 -> 100 | I58: ='PL 3'!I31 -> 0 | J58: ='PL 3'!J31 -> 0
A59: - | B59: Tỷ lệ PCGD tiểu học đúng độ tuổi | C59: % | D59: 96.7 | F59: 96.7 | G59: =F59/D59*100 -> 100 | I59: ='PL 3'!I32 -> 0 | J59: ='PL 3'!J32 -> 0
A60: - | B60: Tỷ lệ phổ cập THCS | C60: % | D60: 93.7 | F60: 95 | G60: =F60/D60*100 -> 101.38741 | H60: 95 | I60: ='PL 3'!I33 -> 95 | J60: ='PL 3'!J33 -> 95 | K60: =I60/H60*100 -> 100
A61: - | B61: Tỷ lệ xã được công nhận giáo dục Mầm non 5 tuổi | C61: % | D61: 100 | F61: 100 | G61: =F61/D61*100 -> 100 | H61: 100 | I61: ='PL 3'!I34 -> 100 | J61: ='PL 3'!J34 -> 100 | K61: =I61/H61*100 -> 100
A62: - | B62: Số trường đạt chuẩn quốc gia | C62: trường | D62: 8 | F62: 7 | G62: =F62/D62*100 -> 87.5 | H62: 7 | I62: ='PL 3'!I35 -> 7 | J62: ='PL 3'!J35 -> 7 | K62: =I62/H62*100 -> 100
A63: 4 | B63: Y tế - Văn hóa
A64: - | B64: Tổng số giường bệnh | C64: Giường | D64: 115 | F64: =F65+F67 -> 115 | H64: =H65+H67 -> 115 | I64: ='PL 3'!I37 -> 115 | J64: =I64 -> 115 | K64: =I64/H64*100 -> 100
A65: + | B65: Bệnh viện | C65: Giường | D65: 100 | F65: 100 | G65: =F65/D65*100 -> 100 | H65: 100 | I65: ='PL 3'!I38 -> 100 | J65: =I65 -> 100 | K65: =I65/H65*100 -> 100
A66: + | B66: Phòng khám khu vực | C66: Giường | D66: - | F66: - | I66: ='PL 3'!I39 -> 0 | J66: =I66 -> 0
A67: + | B67: Trạm Y tế | C67: Giường | D67: =5*3 -> 15 | F67: =5*3 -> 15 | G67: =F67/D67*100 -> 100 | H67: 15 | I67: ='PL 3'!I40 -> 100 | J67: =I67 -> 100 | K67: =I67/H67*100 -> 666.66667
A68: - | B68: Tỷ lệ xã có trạm Y tế | C68: % | D68: 100 | F68: 100 | G68: =F68/D68*100 -> 100 | H68: 100 | I68: ='PL 3'!I41 -> 100 | J68: =I68 -> 100 | K68: =I68/H68*100 -> 100
A69: - | B69: Số giường bệnh/vạn dân | C69: Giường/vạn dân | D69: =100/17687*10000 -> 56.538701 | F69: =F64/F31*10000 -> 62.944718 | G69: =F69/D69*100 -> 111.33032 | H69: 62.18 | I69: ='PL 3'!I42 -> 62.17 | J69: =I69 -> 62.17 | K69: 99,98
A70: - | B70: Số bác sỹ/vạn dân | C70: Bsỹ/vạn dân | D70: =14/17687*10000 -> 7.9154181 | F70: =14/18270*10000 -> 7.6628352 | G70: =F70/D70*100 -> 96.808976 | H70: =16/18505*10000 -> 8.6463118 | I70: ='PL 3'!I43 -> 7.57 | J70: ='PL 3'!J43 -> 7.57 | K70: 87,51
A71: - | B71: Tỷ lệ trẻ em suy sinh dưỡng theo chiều cao xuống còn | C71: % | D71: 17.5 | F71: 16.2 | G71: =F71/D71*100 -> 92.571429 | H71: 14.96 | I71: ='PL 3'!I44 -> 14.93 | J71: =I71 -> 14.93 | K71: 99,79
A72: - | B72: Tỷ lệ trẻ em suy sinh dưỡng theo cân nặng xuống còn | C72: % | D72: 16.1 | F72: 15.9 | G72: =F72/D72*100 -> 98.757764 | H72: 14.72 | I72: ='PL 3'!I45 -> 14.72 | J72: =I72 -> 14.72 | K72: 100
A73: - | B73: Tỷ lệ trẻ em dưới 1 tuổi được tiêm chủng đầy đủ | C73: % | D73: ≥97% | F73: 97 | G73: 100 | H73: 97.5 | I73: ='PL 3'!I46 -> 62.9 | J73: =I73 -> 62.9 | K73: 47,6
A74: - | B74: Tỷ lệ bao phủ bảo hiểm y tế | C74: % | D74: 97.8 | F74: 97.84 | G74: =F74/D74*100 -> 100.0409 | H74: 98.09 | I74: 100 | J74: =I74 -> 100 | K74: =I74/H74*100 -> 101.94719
A75: - | B75: Tỷ lệ bao phủ bảo hiểm xã hội | C75: % | D75: 20.14 | F75: 16.76 | G75: =F75/D75*100 -> 83.217478 | H75: 20.14 | I75: 20.14 | J75: =I75 -> 20.14 | K75: =I75/H75*100 -> 100
A76: - | B76: Tỷ lệ bao phủ bảo hiểm thất nghiệp trong độ tuổi lao động | C76: % | D76: 9.71 | F76: 7.26 | G76: =F76/D76*100 -> 74.76828 | H76: 9.71 | I76: 9.71 | J76: =I76 -> 9.71 | K76: =I76/H76*100 -> 100
A77: - | B77: Tỷ lệ bao phủ BHXH tự nguyện | C77: % | D77: 8.15 | F77: 6.34 | G77: =F77/D77*100 -> 77.791411 | H77: 8.25 | I77: 6.8 | J77: =I77 -> 6.8 | K77: =I77/H77*100 -> 82.424242
A78: - | B78: Tỷ lệ hộ gia đình sử dụng nước sinh hoạt hợp vệ sinh | C78: % | D78: 99 | F78: 99 | G78: =F78/D78*100 -> 100 | H78: 99 | I78: 99 | J78: =I78 -> 99 | K78: =I78/H78*100 -> 100
A79: - | B79: Tỷ lệ hộ gia đình đạt danh hiệu gia đình văn hóa | C79: % | D79: 98 | F79: 98 | G79: =F79/D79*100 -> 100 | H79: 98.1 | K79: =I79/H79*100 -> 0
A80: - | B80: Tỷ lệ thôn, làng đạt danh hiệu thôn làng văn hóa | C80: % | D80: 100 | F80: 100 | G80: =F80/D80*100 -> 100 | H80: 100 | K80: =I80/H80*100 -> 0
A81: - | B81: Tỷ lệ lao động qua đào tạo | C81: % | F81: 70.23 | H81: 73.03 | K81: =I81/H81*100 -> 0
A82: 5 | B82: Tỷ lệ hộ dân tộc thiểu số có đất ở | C82: % | D82: 100 | F82: 100 | G82: =F82/D82*100 -> 100 | H82: 100 | I82: 100 | J82: =I82 -> 100 | K82: =I82/H82*100 -> 100
A83: 6 | B83: Tỷ lệ hộ dân tộc thiểu số có đất sản xuất | C83: % | D83: 100 | F83: 100 | G83: =F83/D83*100 -> 100 | H83: 100 | I83: 100 | J83: =I83 -> 100 | K83: =I83/H83*100 -> 100
A84: III | B84: QUỐC PHÒNG - AN NINH VÀ HỆ THỐNG CHÍNH TRỊ
A85: 1 | B85: Tỷ lệ giải quyết tố giác, tin báo về tội phạm, kiến nghị khởi tố | C85: % | D85: trên 90% | F85: 92 | G85: =92/90*100 -> 102.22222 | H85: 90 | I85: 90 | J85: =I85 -> 90 | K85: =I85/H85*100 -> 100
A86: 2 | B86: Tỷ lệ đơn vị có phong trào toàn dân bảo vệ an ninh Tổ quốc đạt từ loại khá trở lên | C86: % | D86: 100 | F86: 100 | G86: =F86/D86*100 -> 100 | H86: 100 | I86: 100 | J86: =I86 -> 100 | K86: =I86/H86*100 -> 100
A87: 3 | B87: Công chức cấp xã đạt chuẩn trình độ đào tạo chức danh, vị trí việc làm | C87: % | D87: 100 | F87: 100 | G87: =F87/D87*100 -> 100 | H87: 100 | I87: 100 | J87: =I87 -> 100 | K87: =I87/H87*100 -> 100
A88: 4 | B88: Tỷ lệ giao quân hàng năm | C88: % | D88: 100 | F88: 100 | G88: =F88/D88*100 -> 100 | H88: 100 | I88: 100 | J88: =I88 -> 100 | K88: =I88/H88*100 -> 100
A89: 5 | B89: Chất lượng huấn luyện hàng năm | C89: % | H89: xuất sắc

Sheet PL 2
A1: Phụ lục 2 KẾT QUẢ THỰC HIỆN CÁC CHỈ TIÊU NÔNG NGHIỆP 9 THÁNG NĂM 2026
A2: (kèm theo Báo cáo số /BC-UBND ngày tháng năm 2026 của UBND xã Kon Braih)
A3: TT | B3: Tên chỉ tiêu | C3: ĐVT | D3: KH năm 2025 | F3: Kết quả thực hiện | G3: Tỷ lệ thực hiện (%) | H3: Kế hoạch năm 2026 | I3: Thực hiện 8 tháng | J3: So sánh 2026 với 2025 | K3: thực hiện 9 tháng | L3: Tỉ lệ %
D4: NQ số 09 | E4: NQ số 17 | J4: + ; -
A5: 1 | B5: 2 | C5: 3 | D5: 4 | E5: 5 | F5: 6 | G5: 7 | H5: 4 | I5: 5 | J5: 6 | K5: 6 | L5: 7=5/4 | M5: 8=6/4
A6: A | B6: TRỒNG TRỌT
A7: * | B7: TỔNG DT GT (I+II+V) | C7: Ha | D7: 8226.25 | E7: =F10+F30+F53+F62+F44+F72+F110 -> 8251.11 | F7: =F8+F72+F110 -> 8251.11 | G7: 100 | H7: =H8+H72+H110 -> 8407.3 | I7: =I8+I72+I110 -> 8224.65 | J7: =H7-F7 -> 156.19 | K7: 8360.93 | L7: =I7/H7*100 -> 97.827483 | M7: =K7/H7*100 -> 99.448456 | O7: =O8+O72+O110 -> 4618.93
A8: I | B8: DT GT CÂY HN | C8: ha | D8: 3575.47 | F8: =F10+F30+F44+F53+F62 -> 3575.47 | G8: =F8/D8*100 -> 100 | H8: =H10+H30+H44+H53+H62 -> 3573.1 | I8: =I10+I30+I44+I53+I62 -> 3392.9 | J8: =H8-F8 -> -2.37 | K8: 3528.1 | L8: =I8/H8*100 -> 94.95676 | M8: =K8/H8*100 -> 98.740589 | O8: =O10+O30+O44+O53+O62 -> 3528.1
A9: 1 | B9: Lúa cả năm
A10: - | B10: Diện tích | C10: ha | D10: 802.8 | E10: 802.8 | F10: =F14+F18 -> 802.8 | G10: =F10/D10*100 -> 100 | H10: =H14+H18 -> 760 | I10: =I14+I18 -> 760 | J10: =H10-F10 -> -42.8 | K10: =K14+K18 -> 760 | L10: =I10/H10*100 -> 100 | M10: =K10/H10*100 -> 100 | O10: =O14+O18 -> 760
A11: - | B11: Năng suất | C11: tạ/ha | D11: 55.61 | E11: 59.98 | F11: 59.98 | G11: =F11/E11*100 -> 100 | H11: 61 | I11: 61 | J11: =H11-F11 -> 1.02 | K11: 61 | L11: =I11/H11*100 -> 100 | M11: =K11/H11*100 -> 100 | O11: 61
A12: - | B12: Sản lượng | C12: tấn | D12: =D10*D11/10 -> 4464.3708 | E12: 4735.27 | F12: 4735.27 | G12: =F12/E12*100 -> 100 | H12: 4621 | I12: 4621 | J12: =H12-F12 -> -114.27 | K12: 4621 | L12: =I12/H12*100 -> 100 | M12: =K12/H12*100 -> 100 | O12: 4621
A13: 1.1 | B13: Lúa Đông xuân
A14: - | B14: Diện tích | C14: ha | D14: 289 | F14: 289 | G14: =F14/D14*100 -> 100 | H14: 290 | I14: 290 | J14: =H14-F14 -> 1 | K14: 290 | L14: =I14/H14*100 -> 100 | M14: =K14/H14*100 -> 100 | O14: 290
A15: - | B15: Năng suất | C15: tạ/ha | D15: 66.23 | F15: 66.23 | G15: =F15/D15*100 -> 100 | H15: 68.92 | I15: 68.92 | J15: =H15-F15 -> 2.69 | K15: 68.92 | L15: =I15/H15*100 -> 100 | M15: =K15/H15*100 -> 100 | O15: 68.92
A16: - | B16: Sản lượng | C16: tấn | D16: =D14*D15/10 -> 1914.047 | F16: =F14*F15/10 -> 1914.047 | G16: =F16/D16*100 -> 100 | H16: =H14*H15/10 -> 1998.68 | I16: =I14*I15/10 -> 1998.68 | J16: =H16-F16 -> 84.633 | K16: 1998.68 | L16: =I16/H16*100 -> 100 | M16: =K16/H16*100 -> 100 | O16: =O14*O15/10 -> 1998.68
A17: 1.2 | B17: Lúa vụ mùa
A18: - | B18: Diện tích | C18: ha | D18: 513.8 | F18: 513.8 | G18: =F18/D18*100 -> 100 | H18: =H22+H26 -> 470 | I18: =I22+I26 -> 470 | J18: =H18-F18 -> -43.8 | K18: 470 | L18: =I18/H18*100 -> 100 | M18: =K18/H18*100 -> 100 | O18: =O22+O26 -> 470
A19: - | B19: Năng suất | C19: tạ/ha | D19: 61.184383 | F19: 61.184383 | G19: =F19/D19*100 -> 100 | H19: 61.2 | J19: =H19-F19 -> 0.015617128 | L19: =I19/H19*100 -> 0 | M19: =K19/H19*100 -> 0
A20: - | B20: Sản lượng | C20: tấn | D20: =D18*D19/10 -> 3143.6536 | F20: =F18*F19/10 -> 3143.6536 | G20: =F20/D20*100 -> 100 | H20: =H18*H19/10 -> 2876.4 | I20: =I18*I19/10 -> 0 | J20: =H20-F20 -> -267.25359 | K20: 0 | L20: =I20/H20*100 -> 0 | M20: =K20/H20*100 -> 0 | O20: =O18*O19/10 -> 0
A21: 1.2.1 | B21: Trong đó: Ruộng
A22: - | B22: Diện tích | C22: ha | D22: 367 | F22: 367 | G22: =F22/D22*100 -> 100 | H22: 367 | I22: 367 | J22: =H22-F22 -> 0 | K22: 367 | L22: =I22/H22*100 -> 100 | M22: =K22/H22*100 -> 100 | O22: 367
A23: - | B23: Năng suất | C23: tạ/ha | D23: 64.7 | F23: 64.7 | G23: =F23/D23*100 -> 100 | H23: 64.7 | J23: =H23-F23 -> 0 | L23: =I23/H23*100 -> 0 | M23: =K23/H23*100 -> 0
A24: - | B24: Sản lượng | C24: tấn | D24: =D22*D23/10 -> 2374.49 | F24: =F22*F23/10 -> 2374.49 | G24: =F24/D24*100 -> 100 | H24: =H22*H23/10 -> 2374.49 | I24: =I22*I23/10 -> 0 | J24: =H24-F24 -> 0 | K24: 0 | L24: =I24/H24*100 -> 0 | M24: =K24/H24*100 -> 0 | O24: =O22*O23/10 -> 0
A25: 1.2.2 | B25: Lúa ô nà (rẫy)
A26: - | B26: Diện tích | C26: ha | D26: 146.8 | F26: 146.8 | G26: =F26/D26*100 -> 100 | H26: 103 | I26: 103 | J26: =H26-F26 -> -43.8 | K26: 103 | L26: =I26/H26*100 -> 100 | M26: =K26/H26*100 -> 100 | O26: 103
A27: - | B27: Năng suất | C27: tạ/ha | D27: 22.95 | F27: 22.95 | G27: =F27/D27*100 -> 100 | H27: 22.95 | J27: =H27-F27 -> 0 | L27: =I27/H27*100 -> 0 | M27: =K27/H27*100 -> 0
A28: - | B28: Sản lượng | C28: tấn | D28: =D26*D27/10 -> 336.906 | F28: =F26*F27/10 -> 336.906 | G28: =F28/D28*100 -> 100 | H28: =H26*H27/10 -> 236.385 | J28: =H28-F28 -> -100.521 | L28: =I28/H28*100 -> 0 | M28: =K28/H28*100 -> 0
A29: 2 | B29: Ngô cả năm
A30: - | B30: Diện tích | C30: ha | D30: 355 | E30: 355 | F30: 355 | G30: =F30/D30*100 -> 100 | H30: 350 | I30: =I33+I37+I41 -> 348 | J30: =H30-F30 -> -5 | K30: 349 | L30: =I30/H30*100 -> 99.428571 | M30: =K30/H30*100 -> 99.714286 | O30: =O33+O37+O41 -> 349
A31: - | B31: Năng suất | C31: tạ/ha | D31: 61.18 | E31: 63.04 | F31: 63.04 | G31: =F31/E31*100 -> 100 | H31: 63 | I31: 63 | J31: =H31-F31 -> -0.04 | K31: 63 | L31: =I31/H31*100 -> 100 | M31: =K31/H31*100 -> 100 | O31: 63
A32: - | B32: Sản lượng | C32: tấn | D32: =D30*D31/10 -> 2171.89 | E32: 2237.8 | F32: 2237.8 | G32: =F32/E32*100 -> 100 | H32: 2277.72 | I32: 2277.72 | J32: =H32-F32 -> 39.92 | K32: 2277.72 | L32: =I32/H32*100 -> 100 | M32: =K32/H32*100 -> 100 | O32: 2277.72
A33: 2.1 | B33: Ngô vụ Đông Xuân | C33: ha | D33: 4 | F33: 4 | G33: =F33/D33*100 -> 100 | H33: 4 | I33: 4 | J33: =H33-F33 -> 0 | K33: 4 | L33: =I33/H33*100 -> 100 | M33: =K33/H33*100 -> 100 | O33: 4
A34: - | B34: Năng suất | C34: tạ/ha | D34: 56.4 | F34: 56.4 | G34: =F34/D34*100 -> 100 | H34: 57.62 | I34: 57.62 | J34: =H34-F34 -> 1.22 | K34: 57.62 | L34: =I34/H34*100 -> 100 | M34: =K34/H34*100 -> 100 | O34: 57.62
A35: - | B35: Sản lượng | C35: tấn | D35: =D33*D34/10 -> 22.56 | F35: =F33*F34/10 -> 22.56 | G35: =F35/D35*100 -> 100 | H35: =H33*H34/10 -> 23.048 | I35: =I33*I34/10 -> 23.048 | J35: =H35-F35 -> 0.488 | K35: 23.048 | L35: =I35/H35*100 -> 100 | M35: =K35/H35*100 -> 100 | O35: =O33*O34/10 -> 23.048
A36: 2.2 | B36: Ngô vụ 1
A37: - | B37: Diện tích | C37: ha | D37: 264 | F37: 264 | G37: =F37/D37*100 -> 100 | H37: 258 | I37: 258 | J37: =H37-F37 -> -6 | K37: 258 | L37: =I37/H37*100 -> 100 | M37: =K37/H37*100 -> 100 | O37: 258
A38: - | B38: Năng suất | C38: tạ/ha | D38: 61.4 | F38: 61.4 | G38: =F38/D38*100 -> 100 | H38: 63.459 | I38: 63.459 | J38: =H38-F38 -> 2.059 | K38: 63.459 | L38: =I38/H38*100 -> 100 | M38: =K38/H38*100 -> 100 | O38: 63.459
A39: - | B39: Sản lượng | C39: tấn | D39: =D37*D38/10 -> 1620.96 | F39: =F37*F38/10 -> 1620.96 | G39: =F39/D39*100 -> 100 | H39: =H37*H38/10 -> 1637.2422 | I39: =I37*I38/10 -> 1637.2422 | J39: =H39-F39 -> 16.2822 | K39: 1637.2422 | L39: =I39/H39*100 -> 100 | M39: =K39/H39*100 -> 100 | O39: =O37*O38/10 -> 1637.2422
A40: 2.3 | B40: Ngô vụ 2
A41: - | B41: Diện tích | C41: ha | D41: 87 | F41: 87 | G41: =F41/D41*100 -> 100 | H41: 88 | I41: 86 | J41: =H41-F41 -> 1 | K41: 87 | L41: =I41/H41*100 -> 97.727273 | M41: =K41/H41*100 -> 98.863636 | O41: 87
A42: - | B42: Năng suất | C42: tạ/ha | D42: 60.51 | F42: 60.51 | G42: =F42/D42*100 -> 100 | H42: 62.951 | J42: =H42-F42 -> 2.441 | L42: =I42/H42*100 -> 0 | M42: =K42/H42*100 -> 0
A43: - | B43: Sản lượng | C43: tấn | D43: =D41*D42/10 -> 526.437 | F43: =F41*F42/10 -> 526.437 | G43: =F43/D43*100 -> 100 | H43: =H41*H42/10 -> 553.9688 | I43: =I41*I42/10 -> 0 | J43: =H43-F43 -> 27.5318 | K43: 0 | L43: =I43/H43*100 -> 0 | M43: =K43/H43*100 -> 0 | O43: =O41*O42/10 -> 0
A44: 3 | B44: Cây chất bột lấy củ: | C44: ha | D44: 2049.37 | F44: 2049.37 | G44: =F44/D44*100 -> 100 | H44: =H46+H50 -> 2074.1 | I44: =I46+I50 -> 1912.8 | J44: =H44-F44 -> 24.73 | K44: 2032.9 | L44: =I44/H44*100 -> 92.223133 | M44: =K44/H44*100 -> 98.013596 | O44: =O46+O50 -> 2032.9
A45: 3.1 | B45: Khoai lang
A46: - | B46: Diện tích | C46: ha | D46: 3.1 | F46: 3.1 | G46: =F46/D46*100 -> 100 | H46: 3.1 | I46: 2.8 | J46: =H46-F46 -> 0 | K46: 2.9 | L46: =I46/H46*100 -> 90.322581 | M46: =K46/H46*100 -> 93.548387 | O46: 2.9
A47: - | B47: Năng suất | C47: tạ/ha | D47: 43.6 | F47: 43.6 | G47: =F47/D47*100 -> 100 | H47: 43.6 | I47: 43.6 | J47: =H47-F47 -> 0 | K47: 43.6 | L47: =I47/H47*100 -> 100 | M47: =K47/H47*100 -> 100 | O47: 43.6
A48: - | B48: Sản lượng | C48: tấn | D48: =D46*D47/10 -> 13.516 | F48: =F46*F47/10 -> 13.516 | G48: =F48/D48*100 -> 100 | H48: =H46*H47/10 -> 13.516 | I48: =I46*I47/10 -> 12.208 | J48: =H48-F48 -> 0 | K48: 12.644 | L48: =I48/H48*100 -> 90.322581 | M48: =K48/H48*100 -> 93.548387 | O48: =O46*O47/10 -> 12.644
A49: 3.2 | B49: Sắn
A50: - | B50: Diện tích | C50: ha | D50: 2046.27 | E50: 2046.27 | F50: 2046.27 | G50: =F50/D50*100 -> 100 | H50: 2071 | I50: 1910 | J50: =H50-F50 -> 24.73 | K50: 2030 | L50: =I50/H50*100 -> 92.225978 | M50: =K50/H50*100 -> 98.02028 | O50: 2030
A51: - | B51: Năng suất | C51: tạ/ha | D51: 97.94 | E51: 99.51 | F51: 99.51 | G51: =F51/D51*100 -> 101.60302 | H51: 101 | I51: 101 | J51: =H51-F51 -> 1.49 | K51: 101 | L51: =I51/H51*100 -> 100 | M51: =K51/H51*100 -> 100 | O51: 101
A52: - | B52: Sản lượng | C52: tấn | D52: =D50*D51/10 -> 20041.168 | E52: 20363.2 | F52: 20363.2 | G52: =F52/D52*100 -> 101.60685 | H52: 20989 | I52: 20989 | J52: =H52-F52 -> 625.8 | K52: 20989 | L52: =I52/H52*100 -> 100 | M52: =K52/H52*100 -> 100 | O52: 20989
A53: 4 | B53: Cây thực phẩm: | C53: ha | D53: 126 | F53: 126 | G53: =F53/D53*100 -> 100 | H53: =H54+H58 -> 127 | I53: =I54+I58 -> 103 | J53: =H53-F53 -> 1 | K53: 108.7 | L53: =I53/H53*100 -> 81.102362 | M53: =K53/H53*100 -> 85.590551 | O53: =O54+O58 -> 108.7
A54: 4.1 | B54: Rau các loại | D54: 70 | E54: 70 | F54: 70 | G54: =F54/D54*100 -> 100 | H54: 69 | I54: 56.2 | J54: =H54-F54 -> -1 | K54: 59.6 | L54: =I54/H54*100 -> 81.449275 | M54: =K54/H54*100 -> 86.376812 | O54: 59.6
A55: - | B55: Diện tích | C55: ha | D55: 70 | F55: 70 | L55: =I55/H55*100 -> #DIV/0! | M55: =K55/H55*100 -> #DIV/0!
A56: - | B56: Năng suất | C56: tạ/ha | L56: =I56/H56*100 -> #DIV/0! | M56: =K56/H56*100 -> #DIV/0!
A57: - | B57: Sản lượng | C57: tấn | L57: =I57/H57*100 -> #DIV/0! | M57: =K57/H57*100 -> #DIV/0!
A58: 4.2 | B58: Đậu các loại | D58: 56 | E58: 56 | F58: 56 | G58: =F58/D58*100 -> 100 | H58: 58 | I58: 46.8 | J58: =H58-F58 -> 2 | K58: 49.1 | L58: =I58/H58*100 -> 80.689655 | M58: =K58/H58*100 -> 84.655172 | O58: 49.1
A59: - | B59: Diện tích | C59: ha | L59: =I59/H59*100 -> #DIV/0! | M59: =K59/H59*100 -> #DIV/0!
A60: - | B60: Năng suất | C60: tạ/ha | L60: =I60/H60*100 -> #DIV/0! | M60: =K60/H60*100 -> #DIV/0!
A61: - | B61: Sản lượng | C61: tấn | L61: =I61/H61*100 -> #DIV/0! | M61: =K61/H61*100 -> #DIV/0!
A62: 5 | B62: Cây CN ngắn ngày | C62: ha | D62: 242.3 | F62: 242.3 | H62: =H64+H69 -> 262 | I62: =I64+I69+I67 -> 269.1 | J62: =H62-F62 -> 19.7 | K62: 277.5 | L62: =I62/H62*100 -> 102.70992 | M62: =K62/H62*100 -> 105.91603 | O62: =O64+O69+O67 -> 277.5
A63: 5.1 | B63: Cây mía
A64: - | B64: Diện tích | C64: ha | D64: 229.3 | E64: 229.3 | F64: 229.3 | G64: =F64/D64*100 -> 100 | H64: 249 | I64: 241 | J64: =H64-F64 -> 19.7 | K64: 249 | L64: =I64/H64*100 -> 96.787149 | M64: =K64/H64*100 -> 100 | O64: 249
A65: - | B65: Năng suất | C65: tạ/ha | D65: 760 | E65: 768.44 | F65: 768.44 | G65: =F65/D65*100 -> 101.11053 | H65: 769.15 | J65: =H65-F65 -> 0.71 | L65: =I65/H65*100 -> 0 | M65: =K65/H65*100 -> 0
A66: - | B66: Sản lượng | C66: tấn | D66: =D64*D65/10 -> 17426.8 | E66: 17620.4 | F66: 17620.4 | G66: =F66/D66*100 -> 101.11093 | H66: 17620.4 | J66: =H66-F66 -> 0 | L66: =I66/H66*100 -> 0 | M66: =K66/H66*100 -> 0
B67: Tr.đó: trồng mới: | D67: 154 | F67: 154 | G67: =F67/D67*100 -> 100 | H67: 17 | I67: 17 | K67: 17 | L67: =I67/H67*100 -> 100 | M67: =K67/H67*100 -> 100 | O67: 17
A68: 5.2 | B68: Lạc
A69: - | B69: Diện tích | C69: ha | D69: 13 | E69: 13 | F69: 13 | G69: =F69/D69*100 -> 100 | H69: 13 | I69: 11.1 | J69: =H69-F69 -> 0 | K69: 11.5 | L69: =I69/H69*100 -> 85.384615 | M69: =K69/H69*100 -> 88.461538 | O69: 11.5
A70: - | B70: Năng suất | C70: tạ/ha | D70: 13.45 | E70: 13.46 | F70: 13.46 | G70: =F70/D70*100 -> 100.07435 | H70: 14 | I70: 14 | J70: =H70-F70 -> 0.54 | K70: 14 | L70: =I70/H70*100 -> 100 | M70: =K70/H70*100 -> 100 | O70: 14
A71: - | B71: Sản lượng | C71: tấn | D71: =D69*D70/10 -> 17.485 | E71: 17.5 | F71: 17.5 | G71: =F71/D71*100 -> 100.08579 | H71: 18 | I71: 18 | J71: =H71-F71 -> 0.5 | K71: 18 | L71: =I71/H71*100 -> 100 | M71: =K71/H71*100 -> 100 | O71: 18
A72: II | B72: DT CÂY LÂU NĂM | C72: ha | D72: 4545.88 | F72: =F74+F79+F84+F89+F95 -> 4570.74 | G72: =F72/D72*100 -> 100.54687 | H72: =H74+H79+H84+H89+H95 -> 4729.3 | I72: =I74+I79+I84+I89+I95 -> 4726.85 | J72: =H72-F72 -> 158.56 | K72: 4727.93 | L72: =I72/H72*100 -> 99.948195 | M72: =K72/H72*100 -> 99.971032 | O72: =O74+O79+O84+O89+O95 -> 985.93
A73: 1 | B73: Cây cà phê
A74: - | B74: Diện tích | C74: ha | D74: 357 | E74: 357 | F74: 357 | G74: =F74/D74*100 -> 100 | H74: 438 | I74: 438 | J74: =H74-F74 -> 81 | K74: 438 | L74: =I74/H74*100 -> 100 | M74: =K74/H74*100 -> 100 | O74: 438
A75: - | B75: Tr đó: DT cho thu hoạch | C75: ha | D75: 251.3 | F75: 251.3 | G75: =F75/D75*100 -> 100 | H75: 262.1 | I75: 262.1 | J75: =H75-F75 -> 10.8 | K75: 262.1 | L75: =I75/H75*100 -> 100 | M75: =K75/H75*100 -> 100 | O75: 262.1
A76: - | B76: Năng suất | C76: tạ/ha | D76: 10.3 | F76: 10.3 | G76: =F76/D76*100 -> 100 | H76: 10.4 | J76: =H76-F76 -> 0.1 | L76: =I76/H76*100 -> 0 | M76: =K76/H76*100 -> 0
A77: - | B77: Sản lượng | C77: tấn | D77: =D75*D76/10 -> 258.839 | F77: =F75*F76/10 -> 258.839 | G77: =F77/D77*100 -> 100 | H77: =H75*H76/10 -> 272.584 | J77: =H77-F77 -> 13.745 | L77: =I77/H77*100 -> 0 | M77: =K77/H77*100 -> 0
A78: 2 | B78: Cây tiêu
A79: - | B79: Diện tích | C79: ha | D79: 35.16 | F79: 35.16 | G79: =F79/D79*100 -> 100 | H79: 35.3 | I79: 33.15 | J79: =H79-F79 -> 0.14 | K79: 34.2 | L79: =I79/H79*100 -> 93.909348 | M79: =K79/H79*100 -> 96.883853 | O79: 34.2
A80: - | B80: Năng suất | C80: tạ/ha | D80: 15.74 | F80: 15.74 | G80: =F80/D80*100 -> 100 | H80: 15.84 | I80: 15.84 | J80: =H80-F80 -> 0.1 | K80: 15.84 | L80: =I80/H80*100 -> 100 | M80: =K80/H80*100 -> 100 | O80: 15.84
A81: - | B81: Sản lượng | C81: tấn | D81: =D79*D80/10 -> 55.34184 | F81: 55.34184 | G81: =F81/D81*100 -> 100 | H81: =H79*H80/10 -> 55.9152 | I81: =I79*I80/10 -> 52.5096 | J81: =H81-F81 -> 0.57336 | K81: 54.1728 | L81: =I81/H81*100 -> 93.909348 | M81: =K81/H81*100 -> 96.883853 | O81: =O79*O80/10 -> 54.1728
B82: Tr.đó: trồng mới: | C82: ha | H82: 0.1 | I82: 0.1 | J82: =H82-F82 -> 0.1 | K82: 0.1 | L82: =I82/H82*100 -> 100 | M82: =K82/H82*100 -> 100 | O82: 0.1
A83: 3 | B83: Cây cao su
A84: - | B84: Diện tích | C84: ha | D84: 3416.1 | E84: 3416.1 | F84: 3416.1 | G84: =F84/D84*100 -> 100 | H84: 3452 | I84: =H84 -> 3452 | J84: =H84-F84 -> 35.9 | K84: 3452 | L84: =I84/H84*100 -> 100 | M84: =K84/H84*100 -> 100 | O84: =N84 -> 0
A85: - | B85: Tr.đó: C.ty, Doanh nghiệp | C85: ha | D85: 1797.93 | F85: 1797.93 | G85: =F85/D85*100 -> 100 | H85: 1797.93 | I85: 1797.93 | J85: =H85-F85 -> 0 | K85: 1797.93 | L85: =I85/H85*100 -> 100 | M85: =K85/H85*100 -> 100 | O85: 1797.93
A86: - | B86: DT cho thu hoạch | C86: ha | D86: 3341.9 | F86: 3341.9 | G86: =F86/D86*100 -> 100 | H86: 3352.9 | I86: 3352.9 | J86: =H86-F86 -> 11 | K86: 3352.9 | L86: =I86/H86*100 -> 100 | M86: =K86/H86*100 -> 100 | O86: 3352.9
A87: - | B87: Năng suất | C87: tạ/ha | D87: 15 | F87: 15 | G87: =F87/D87*100 -> 100 | H87: 15.2 | I87: 15.2 | J87: =H87-F87 -> 0.2 | K87: 15.2 | L87: =I87/H87*100 -> 100 | M87: =K87/H87*100 -> 100 | O87: 15.2
A88: - | B88: Sản lượng | C88: tấn | D88: =D86*D87/10 -> 5012.85 | F88: 5012.85 | G88: =F88/D88*100 -> 100 | H88: =H86*H87 -> 50964.08 | I88: =I86*I87 -> 50964.08 | J88: =H88-F88 -> 45951.23 | K88: 50964.08 | L88: =I88/H88*100 -> 100 | M88: =K88/H88*100 -> 100 | O88: =O86*O87 -> 50964.08
A89: 4 | B89: Cây ăn quả | D89: 468.38 | E89: 468.38 | F89: 468.38 | G89: =F89/D89*100 -> 100 | H89: =H90+H91 -> 506 | I89: =I90+I91 -> 505.7 | J89: =H89-F89 -> 37.62 | K89: 505.73 | L89: =I89/H89*100 -> 99.940711 | M89: =K89/H89*100 -> 99.94664 | O89: =O90+O91 -> 505.73
A90: - | B90: Diện tích trồng cũ | C90: ha | D90: 403.38 | E90: 403.38 | F90: 403.38 | G90: =F90/D90*100 -> 100 | H90: 496 | I90: 496 | J90: =H90-F90 -> 92.62 | K90: 496 | L90: =I90/H90*100 -> 100 | M90: =K90/H90*100 -> 100 | O90: 496
A91: - | B91: DT trồng mới | C91: ha | D91: 65 | E91: 65 | F91: 65 | G91: =F91/D91*100 -> 100 | H91: 10 | I91: =SUM(I92:I94) -> 9.7 | K91: 9.73 | L91: =I91/H91*100 -> 97 | M91: =K91/H91*100 -> 97.3 | O91: =SUM(O92:O94) -> 9.73
A92: + | B92: Sầu riêng | D92: 10 | F92: 10 | G92: =F92/D92*100 -> 100 | H92: 5 | I92: 4.8 | J92: =H92-F92 -> -5 | K92: 4.81 | L92: =I92/H92*100 -> 96 | M92: =K92/H92*100 -> 96.2 | O92: 4.81
A93: + | B93: Chanh dây | D93: 51 | F93: 51 | G93: =F93/D93*100 -> 100 | H93: 1 | I93: 1 | K93: 1 | L93: =I93/H93*100 -> 100 | M93: =K93/H93*100 -> 100 | O93: 1
A94: + | B94: Cây ăn quả khác | D94: 2 | F94: 2 | G94: =F94/D94*100 -> 100 | H94: 4 | I94: 3.9 | J94: =H94-F94 -> 2 | K94: 3.92 | L94: =I94/H94*100 -> 97.5 | M94: =K94/H94*100 -> 98 | O94: 3.92
A95: 5 | B95: Cây Mắc ca | C95: ha | D95: 269.24 | E95: 269.24 | F95: =F96+F97 -> 294.1 | G95: =F95/D95*100 -> 109.2334 | H95: 298 | I95: =I96+I97 -> 298 | J95: =H95-F95 -> 3.9 | K95: 298 | L95: =I95/H95*100 -> 100 | M95: =K95/H95*100 -> 100 | O95: =O96+O97 -> 8
A96: - | B96: Diện tích trồng cũ | C96: ha | D96: 246.24 | E96: 246.24 | F96: 270 | G96: =F96/D96*100 -> 109.64912 | H96: 290 | I96: =H96 -> 290 | J96: =H96-F96 -> 20 | K96: 290 | L96: =I96/H96*100 -> 100 | M96: =K96/H96*100 -> 100 | O96: =N96 -> 0
A97: - | B97: DT trồng mới | D97: 23 | E97: 23 | F97: 24.1 | G97: =F97/D97*100 -> 104.78261 | H97: 8 | I97: 8 | J97: =H97-F97 -> -16.1 | K97: 8 | L97: =I97/H97*100 -> 100 | M97: =K97/H97*100 -> 100 | O97: 8
A98: III | B98: CÂY KHÁC | C98: ha | D98: 1158.73 | F98: =F99+F100 -> 1157.93 | G98: =F98/D98*100 -> 99.930959 | H98: =H99+H100 -> 1138.67 | I98: =I99+I100 -> 1061.67 | K98: 1061.67 | L98: =I98/H98*100 -> 93.237725 | M98: =K98/H98*100 -> 93.237725 | O98: =O99+O100 -> 683.83
A99: 1 | B99: Cây bời lời | C99: ha | D99: 447.9 | F99: 447.1 | G99: =F99/D99*100 -> 99.821389 | H99: 377.84 | I99: =H99 -> 377.84 | J99: =H99-F99 -> -69.26 | K99: 377.84 | L99: =I99/H99*100 -> 100 | M99: =K99/H99*100 -> 100 | O99: =N99 -> 0
A100: 2 | B100: Trồng rừng | C100: ha | D100: 710.83 | F100: 710.83 | G100: =F100/D100*100 -> 100 | H100: =H101+H104 -> 760.83 | I100: =I101+I104 -> 683.83 | J100: =H100-F100 -> 50 | K100: 683.83 | L100: =I100/H100*100 -> 89.879474 | M100: =K100/H100*100 -> 89.879474 | O100: =O101+O104 -> 683.83
...

Sheet PL 3
A1: Phụ lục 3 KẾT QUẢ THỰC HIỆN CHỈ TIÊU VĂN HÓA- XÃ HỘI 9 THÁNG NĂM 2026
A2: (kèm theo Báo cáo số /BC-UBND ngày tháng năm 2026 của UBND xã Kon Braih)
A4: TT | B4: Chỉ tiêu | C4: Đơn vị tính | D4: Kế hoạch 2025 | F4: Kết quả thực hiện | G4: % so với kế hoạch | H4: Kế hoạch năm 2026 | I4: Thực hiện 8 tháng | J4: Thực hiện 9 tháng | K4: Tỉ lệ %
A5: 1 | B5: Dân số | H5: 1 | I5: 2 | J5: 3 | K5: 4=2/1*100 | L5: 5=3/1*100
A6: - | B6: Dân số có mặt đầu năm | C6: Người | D6: 18151 | F6: 18389 | G6: 101.31122 | H6: 18.389 | I6: =H6 -> 18.389 | J6: 18389 | K6: 100 | L6: =K6 -> 100 | N6: 18389
A7: - | B7: Tổng số người tăng trong năm (tăng TN) | C7: Người | D7: 274 | F7: 238 | G7: 86.861314 | H7: 214 | I7: 173 | J7: 195 | K7: =I7/H7*100 -> 80.841121 | L7: =J7/H7*100 -> 91.121495 | N7: 195
A8: - | B8: Dân số có mặt cuối năm | C8: Người | D8: 18370 | F8: 18389 | G8: 100.10343 | H8: 18.603 | I8: 18.562 | J8: 18584 | K8: =I8/H8*100 -> 99.779605 | L8: =J8/H8*100 -> 99897.866 | N8: 18584
A9: - | B9: Dân số trung bình | C9: Người | D9: 18260 | F9: 18270 | G9: 100.05476 | H9: 18.496 | I9: =(I6+I8)/2 -> 18.4755 | J9: =I9 -> 18.4755 | K9: =I9/H9*100 -> 99.889165 | L9: =J9/H9*100 -> 99.889165 | N9: 18486.5
A10: - | B10: Tỷ lệ tăng dân số tự nhiên | C10: % | D10: 1.5095587 | F10: 1.294252 | G10: 85.73711 | H10: 1.31 | I10: 0.73 | J10: 0.8 | K10: =I10/H10*100 -> 55.725191 | L10: =J10/H10*100 -> 61.068702 | N10: 0.8
A11: 2 | B11: Giáo dục và Đào tạo
A12: * | B12: Học sinh có mặt đầu năm | C12: Học sinh | D12: 5.085,0 | E12: 5351 | F12: 5124 | G12: 95.757802 | H12: 5124 | I12: 5128 | J12: =J13+J16+J20 -> 5240 | K12: =I12/H12*100 -> 100.07806 | L12: =J12/H12*100 -> 102.26386 | N12: =N13+N16+N20 -> 5240
A13: - | B13: Giáo dục mầm non | C13: Học sinh | D13: 1.374,0 | E13: 1374 | F13: 1372 | G13: 99.85444 | H13: 1400 | I13: 1380 | J13: 1473 | K13: =I13/H13*100 -> 98.571429 | L13: =J13/H13*100 -> 105.21429 | N13: =N14+N15 -> 1473
A14: + | B14: Nhà trẻ | C14: Học sinh | D14: 175 | F14: 197 | G14: 112.57143 | H14: 208 | I14: 204 | J14: 243 | K14: =I14/H14*100 -> 98.076923 | L14: =J14/H14*100 -> 116.82692 | N14: =118+125 -> 243
A15: + | B15: Mẫu giáo | C15: Học sinh | D15: 1.199,0 | F15: 1175 | G15: 97.998332 | H15: 1192 | I15: 1176 | J15: 1230 | K15: =I15/H15*100 -> 98.657718 | L15: =J15/H15*100 -> 103.18792 | N15: =640+590 -> 1230
A16: - | B16: Giáo dục phổ thông | C16: Học sinh | D16: 3.646,0 | E16: 3912 | F16: 3687 | G16: 94.248466 | H16: 3659 | I16: 3683 | J16: 3702 | K16: =I16/H16*100 -> 100.65592 | L16: =J16/H16*100 -> 101.17518 | N16: =N17+N18 -> 3702
A17: + | B17: TH | C17: Học sinh | D17: 2.176,0 | E17: 2189 | F17: 2173 | G17: 99.269073 | H17: 2189 | I17: 2169 | J17: 2120 | K17: =I17/H17*100 -> 99.086341 | L17: =J17/H17*100 -> 96.847876 | N17: =1007+1113 -> 2120
A18: + | B18: THCS | C18: Học sinh | D18: 1.470,0 | E18: 1723 | F18: 1514 | G18: 87.869994 | H18: 1470 | I18: 1514 | J18: 1582 | K18: =I18/H18*100 -> 102.9932 | L18: =J18/H18*100 -> 107.61905 | N18: =826+756 -> 1582
A19: + | B19: THPT | C19: Học sinh | D19: -
A20: - | B20: Bổ túc văn hóa | C20: Học sinh | D20: 65 | E20: 65 | F20: 65 | G20: 100 | H20: 65 | I20: 65 | J20: 65 | K20: =I20/H20*100 -> 100 | L20: =J20/H20*100 -> 100 | N20: 65
A21: * | B21: Tỷ lệ huy động học sinh đi học đúng độ tuổi | C21: %
A22: - | B22: Trong độ tuổi đi học mẫu giáo (từ 3-5 tuổi) | C22: % | D22: 98 | F22: 100 | G22: 102.04082 | H22: 100 | I22: 100 | J22: =I22 -> 100 | K22: =I22/H22*100 -> 100 | L22: =J22/H22*100 -> 100 | N22: 100
A23: - | B23: Học sinh mẫu giáo 5 tuổi | C23: % | D23: 100 | F23: 100 | G23: 100 | H23: 100 | I23: 100 | J23: =I23 -> 100 | K23: =I23/H23*100 -> 100 | L23: =J23/H23*100 -> 100 | N23: 100
A24: - | B24: Học sinh tiểu học | C24: % | D24: 100 | F24: 100 | G24: 100 | H24: 100 | I24: 100 | J24: =I24 -> 100 | K24: =I24/H24*100 -> 100 | L24: =J24/H24*100 -> 100 | N24: 100
A25: - | B25: Học sinh THCS | C25: % | D25: 98 | F25: 98 | G25: 100 | H25: 99 | I25: 99 | J25: =I25 -> 99 | K25: =I25/H25*100 -> 100 | L25: =J25/H25*100 -> 100 | N25: 99
A26: - | B26: Huy động trẻ 6-10 tuổi vào tiểu học | C26: % | D26: 100 | F26: 100 | G26: 100 | H26: 100 | I26: 100 | J26: =I26 -> 100 | K26: =I26/H26*100 -> 100 | L26: =J26/H26*100 -> 100 | N26: 100
A27: - | B27: Huy động trẻ 11-14 vào THCS | C27: % | D27: 98 | F27: 98 | G27: 100 | H27: 98.7 | I27: 98.5 | J27: =I27 -> 98.5 | K27: =I27/H27*100 -> 99.797366 | L27: =J27/H27*100 -> 99.797366 | N27: 98.5
A28: - | B28: Tỷ lệ phổ cập GDTH đúng độ tuổi | C28: % | D28: 90 | F28: 96.7 | G28: 107.44444 | H28: 97.3 | I28: 97 | J28: =I28 -> 97 | K28: =I28/H28*100 -> 99.691675 | L28: =J28/H28*100 -> 99.691675 | N28: 97
A29: - | B29: Học sinh mẫu giáo 5 tuổi | C29: % | D29: 100 | F29: 100 | G29: 100 | J29: =I29 -> 0 | K29: =I29/H29*100 -> #DIV/0! | L29: =J29/H29*100 -> #DIV/0!
A30: - | B30: Học sinh tiểu học | C30: % | D30: 100 | F30: 100 | G30: 100 | J30: =I30 -> 0 | K30: =I30/H30*100 -> #DIV/0! | L30: =J30/H30*100 -> #DIV/0!
A31: - | B31: Học sinh THCS | C31: % | D31: 98 | F31: 98 | G31: 100 | J31: =I31 -> 0 | K31: =I31/H31*100 -> #DIV/0! | L31: =J31/H31*100 -> #DIV/0!
A32: - | B32: Tỷ lệ PCGD tiểu học đúng độ tuổi | C32: % | D32: 96.7 | F32: 96.7 | G32: 100 | J32: =I32 -> 0 | K32: =I32/H32*100 -> #DIV/0! | L32: =J32/H32*100 -> #DIV/0!
A33: - | B33: Tỷ lệ phổ cập THCS | C33: % | D33: 93.7 | F33: 95 | G33: 101.38741 | H33: 95 | I33: 95 | J33: =I33 -> 95 | K33: =I33/H33*100 -> 100 | L33: =J33/H33*100 -> 100
A34: - | B34: Tỷ lệ xã được công nhận giáo dục Mầm non 5 tuổi | C34: % | D34: 100 | F34: 100 | G34: 100 | H34: 100 | I34: 100 | J34: =I34 -> 100 | K34: =I34/H34*100 -> 100 | L34: =J34/H34*100 -> 100
A35: - | B35: Số trường đạt chuẩn quốc gia | C35: trường | D35: 8 | F35: 7 | G35: 87.5 | H35: 7 | I35: 7 | J35: =I35 -> 7 | K35: =I35/H35*100 -> 100 | L35: =J35/H35*100 -> 100
A36: 3 | B36: Y tế - Văn hóa
A37: - | B37: Tổng số giường bệnh | C37: Giường | D37: 115 | F37: 115 | H37: 115 | I37: ='[1]PL 1'!$I$31 -> 115 | J37: =I37 -> 115 | K37: =I37/H37*100 -> 100 | L37: =J37/H37*100 -> 100 | N37: 115
A38: + | B38: Bệnh viện | C38: Giường | D38: 100 | F38: 100 | G38: 100 | H38: 100 | I38: 100 | J38: =I38 -> 100 | K38: =I38/H38*100 -> 100 | L38: =J38/H38*100 -> 100 | N38: 100
B39: Phòng khám khu vực | C39: Giường | D39: - | F39: - | J39: =I39 -> 0
A40: + | B40: Trạm Y tế | C40: Giường | D40: 15 | F40: 15 | G40: 100 | H40: 15 | I40: 100 | J40: =I40 -> 100 | K40: =I40/H40*100 -> 666.66667 | L40: =J40/H40*100 -> 666.66667 | N40: 15
A41: - | B41: Tỷ lệ xã có trạm Y tế | C41: % | D41: 100 | F41: 100 | G41: 100 | H41: 100 | I41: 100 | J41: =I41 -> 100 | K41: =I41/H41*100 -> 100 | L41: =J41/H41*100 -> 100 | N41: 100
A42: - | B42: Số giường bệnh/vạn dân | C42: Giường/vạn dân | D42: 56.538701 | F42: 62.944718 | G42: 111.33032 | H42: 62.18 | I42: 62.17 | J42: =I42 -> 62.17 | K42: =I42/H42*100 -> 99.983918 | L42: =J42/H42*100 -> 99.983918 | N42: 62,17
A43: - | B43: Số bác sỹ/vạn dân | C43: Bsỹ/vạn dân | D43: 7.9154181 | F43: 7.6628352 | G43: 96.808976 | H43: 8.65 | I43: 7.57 | J43: =I43 -> 7.57 | K43: =I43/H43*100 -> 87.514451 | L43: =J43/H43*100 -> 87.514451 | N43: 7,57
A44: - | B44: Tỷ lệ trẻ em suy sinh dưỡng theo chiều cao xuống còn | C44: % | D44: 17.5 | F44: 16.2 | G44: 92.571429 | H44: 14.96 | I44: 14.93 | J44: =I44 -> 14.93 | K44: =I44/H44*100 -> 99.799465 | L44: =J44/H44*100 -> 99.799465 | N44: 14,93
A45: - | B45: Tỷ lệ trẻ em suy sinh dưỡng theo cân nặng xuống còn | C45: % | D45: 16.1 | F45: 15.9 | G45: 98.757764 | H45: 14.72 | I45: 14.72 | J45: =I45 -> 14.72 | K45: =I45/H45*100 -> 100 | L45: =J45/H45*100 -> 100 | N45: 14,72
A46: - | B46: Tỷ lệ trẻ em dưới 1 tuổi được tiêm chủng đầy đủ | C46: % | D46: ≥97% | F46: 97 | G46: 100 | H46: 97.5 | I46: 62.9 | J46: =I46 -> 62.9 | K46: =I46/H46*100 -> 64.512821 | L46: =J46/H46*100 -> 64.512821 | N46: 71.7
A47: - | B47: Tỷ lệ bao phủ bảo hiểm y tế | C47: % | D47: 97.8 | F47: 97.84 | G47: 100.0409 | H47: 98.09 | I47: 100 | J47: =I47 -> 100 | K47: =I47/H47*100 -> 101.94719 | L47: =J47/H47*100 -> 101.94719 | N47: 98.09
A48: - | B48: Tỷ lệ bao phủ bảo hiểm xã hội | C48: % | D48: 20.14 | F48: 16.76 | G48: 83.217478 | H48: 20.14 | I48: 20.14 | J48: =I48 -> 20.14 | K48: =I48/H48*100 -> 100 | L48: =J48/H48*100 -> 100 | N48: 20.14
A49: - | B49: Tỷ lệ bao phủ bảo hiểm thất nghiệp trong độ tuổi lao động | C49: % | D49: 9.71 | F49: 7.26 | G49: 74.76828 | H49: 9.71 | I49: 9.71 | J49: =I49 -> 9.71 | K49: =I49/H49*100 -> 100 | L49: =J49/H49*100 -> 100 | N49: 9.71
A50: - | B50: Tỷ lệ bao phủ BHXH tự nguyện | C50: % | D50: 8.15 | F50: 6.34 | G50: 77.791411 | H50: 8.25 | I50: 6.8 | J50: =I50 -> 6.8 | K50: =I50/H50*100 -> 82.424242 | L50: =J50/H50*100 -> 82.424242 | N50: 6.8
A51: - | B51: Tỷ lệ hộ gia đình sử dụng nước sinh hoạt hợp vệ sinh | C51: % | D51: 99 | F51: 99 | G51: 100 | H51: 99 | I51: 99 | J51: =I51 -> 99 | K51: =I51/H51*100 -> 100 | L51: =J51/H51*100 -> 100 | N51: 99
A52: - | B52: Tỷ lệ hộ gia đình đạt danh hiệu gia đình văn hóa | C52: % | D52: 98 | F52: 98 | G52: 100 | H52: 98.1 | L52: =J52/H52*100 -> 0
A53: - | B53: Tỷ lệ thôn, làng đạt danh hiệu thôn làng văn hóa | C53: % | D53: 100 | F53: 100 | G53: 100 | H53: 100 | L53: =J53/H53*100 -> 0
A54: - | B54: Tỷ lệ lao động qua đào tạo | C54: % | F54: 70.23 | H54: 73.03 | J54: =I54 -> 0 | K54: =I54/H54*100 -> 0 | L54: =J54/H54*100 -> 0
A55: 5 | B55: Tỷ lệ hộ dân tộc thiểu số có đất ở | C55: % | D55: 100 | F55: 100 | G55: 100 | H55: 100 | I55: 100 | J55: =I55 -> 100 | K55: =I55/H55*100 -> 100 | L55: =J55/H55*100 -> 100 | N55: 100
A56: 6 | B56: Tỷ lệ hộ dân tộc thiểu số có đất sản xuất | C56: % | D56: 100 | F56: 100 | G56: 100 | H56: 100 | I56: 100 | J56: =I56 -> 100 | K56: =I56/H56*100 -> 100 | L56: =J56/H56*100 -> 100 | N56: 100
