Workbook
Name _1: #REF!
Name _2: #REF!
Name _CON1: #REF!
Name _CON2: #REF!
Name _NET2: #REF!
Name _QL10: #REF!
Name BaiChay: #REF!
Name BOQ: #REF!
Name BVCISUMMARY: #REF!
Name CauQL1GD2: #REF!
Name CauQL1GD3: #REF!
Name CLVC3: 0.1
Name Co: #REF!
Name COMMON: #REF!
Name CON_EQP_COS: #REF!
Name COVER: #REF!
Name CRITINST: #REF!
Name CRITPURC: #REF!
Name CS_10: #REF!
Name CS_100: #REF!
Name CS_10S: #REF!
Name CS_120: #REF!
Name CS_140: #REF!
Name CS_160: #REF!
Name CS_20: #REF!
Name CS_30: #REF!
Name CS_40: #REF!
Name CS_40S: #REF!
Name CS_5S: #REF!
Name CS_60: #REF!
Name CS_80: #REF!
Name CS_80S: #REF!
Name CS_STD: #REF!
Name CS_XS: #REF!
Name CS_XXS: #REF!
Name den_bu: #REF!
Name DSUMDATA: #REF!
Name End_1: #REF!
Name End_10: #REF!
Name End_11: #REF!
Name End_12: #REF!
Name End_13: #REF!
Name End_2: #REF!
Name End_3: #REF!
Name End_4: #REF!
Name End_5: #REF!
Name End_6: #REF!
Name End_7: #REF!
Name End_8: #REF!
Name End_9: #REF!
Name Ghi_chó: #REF!
Name gia_tien_BTN: #REF!
Name GTNT1: #REF!
Name GTNT2: #REF!
Name Heä_soá_laép_xaø_H: 1.7
Name HOME_MANP: #REF!
Name HOMEOFFICE_COST: #REF!
Name HSCT3: 0.1
Name HSDN: 2.5
Name IDLAB_COST: #REF!

Sheet PLTH 1 (ĐT 2026) 
A1: PHỤ LỤC TỔNG HỢP 1
A2: DỰ KIẾN PHÂN BỔ KẾ HOẠCH VỐN ĐẦU TƯ CÔNG NĂM 2026 THỰC HIỆN CHƯƠNG TRÌNH MTQG XÂY DỰNG NÔNG THÔN MỚI, GIẢM NGHÈO BỀN VỮNG VÀ PHÁT TRIỂN KINH TẾ - XÃ HỘI VÙNG ĐỒNG BÀO DÂN TỘC THIỂU SỐ VÀ MIỀN NÚI GIAI ĐOẠN 2026 - 2035, GIAI ĐOẠN I: TỪ NĂM 2026 ĐẾN NĂM 2030
A3: Nguồn vốn: Ngân sách trung ương, ngân sách tỉnh và ngân sách xã
A4: (Kèm theo Tờ trình số /TTr-UBND ngày tháng năm 2026 UBND xã Kon Braih)
H5: ĐVT: Triệu đồng
A6: STT | B6: Chủ đầu tư/ Đơn vị đầu mối giao kế hoạch vốn thực hiện Chương tình mục tiêu quốc gia | C6: Điểm phân bổ từ Ngân sách trung ương và Ngân sách tỉnh | E6: Kế hoạch vốn đầu tư công năm 2026 | I6: Ghi chú
C9: NSTW | D9: NS tỉnh | E9: Tổng tất cả các nguồn vốn | F9: Trong đó:
F10: NSTW | G10: NS tỉnh | H10: NS cấp xã
B11: TỔNG CỘNG | E11: =E13+E12 -> 5727.3692 | F11: =SUM(F12:F13) -> 4641.6142 | G11: =SUM(G12:G13) -> 639.755 | H11: =SUM(H12:H13) -> 446
A12: 1 | B12: Phòng XD,NN&MT | E12: =F12+G12+H12 -> 890.36919 | F12: ='PL 1.1 (ĐT 2026)'!I17+'PL 1.1 (ĐT 2026)'!I18 -> 887.61419 | G12: ='PL 1.1 (ĐT 2026)'!J17 -> 2.755
A13: 2 | B13: Chủ đầu tư Trung tâm Cung ứng dịch vụ Công ích xã | E13: =F13+G13+H13 -> 4837 | F13: ='PL 1.1 (ĐT 2026)'!I14+'PL 1.1 (ĐT 2026)'!I15 -> 3754 | G13: ='PL 1.1 (ĐT 2026)'!J14+'PL 1.1 (ĐT 2026)'!J15 -> 637 | H13: ='PL 1.1 (ĐT 2026)'!K9 -> 446
A14: *. Ngân sách cấp xã đối ứng 446 triệu đồng từ nguồn vốn đầu tư được phân cấp hằng năm và các nguồn vốn hợp pháp khác

Sheet PL 1.1 (ĐT 2026)
A1: PHỤ LỤC 1.1
A2: DỰ KIẾN PHÂN BỔ CHI TIẾT KẾ HOẠCH VỐN ĐẦU TƯ CÔNG NĂM 2026 THỰC HIỆN CHƯƠNG TRÌNH MỤC TIÊU QUỐC GIA XÂY DỰNG NÔNG THÔN MỚI, GIẢM NGHÈO BỀN VỮNG VÀ PHÁT TRIỂN KINH TẾ - XÃ HỘI VÙNG ĐỒNG BÀO DÂN TỘC THIỂU SỐ VÀ MIỀN NÚI GIAI ĐOẠN 2026 - 2035, GIAI ĐOẠN I: TỪ NĂM 2026 ĐẾN NĂM 2030
A3: Nguồn vốn: Ngân sách trung ương, ngân sách cấp tỉnh và ngân sách xã
A4: (Kèm theo Tờ trình số /TTr-UBND ngày tháng năm 2026 UBND xã Kon Braih)
A6: STT | B6: Chủ đầu tư/ Đơn vị đầu mối giao kế hoạch vốn là các đơn vị thuộc tỉnh | C6: Chủ đầu tư | D6: Địa điểm | E6: Thời gian khởi công hoàn thành | F6: Quy mô | G6: Tổng mức đầu tư | H6: Kế hoạch vốn đầu tư công năm 2026 | L6: Ghi chú
H7: Tổng tất cả các nguồn vốn | I7: Trong đó
I8: Ngân sách Trung ương | J8: Ngân sách cấp Tỉnh | K8: Ngân sách cấp xã | M8: TÔngr | N8: TW | O8: TỈNH | P8: XÃ
B9: TỔNG CỘNG (I) và (II) | G9: =G10+G16 -> 5727.3692 | H9: =H10+H16 -> 5727.3692 | I9: =I10+I16 -> 4641.6142 | J9: =J10+J16 -> 639.755 | K9: =K10+K16 -> 446 | M9: 4837 | N9: 3754 | O9: 637 | P9: 446
A10: I | B10: HỢP PHẦN THỨ NHẤT | G10: =G11 -> 4837 | H10: =H11 -> 4837 | I10: =I11 -> 3754 | J10: =J11 -> 637 | K10: =K11 -> 446
A11: 1 | B11: Chủ đầu tư: Trung tâm cung ứng dịch vụ công ích xã (chuẩn bị đầu tư) | G11: =G12 -> 4837 | H11: =H12 -> 4837 | I11: =I12 -> 3754 | J11: =J12 -> 637 | K11: =K12 -> 446
A12: * | B12: Nội dung thành phần 02: Phát triển hạ tầng kinh tế - xã hội nông thôn toàn diện, đồng bộ, hiện đại, kết nối hiệu quả với đô thị và thích ứng với biến đổi khí hậu | G12: =G13 -> 4837 | H12: =H13 -> 4837 | I12: =I13 -> 3754 | J12: =J13 -> 637 | K12: =K13 -> 446 | N12: =N9/M9*100 -> 77.610089 | O12: =O9/N9*100 -> 16.968567 | P12: =P9/O9*100 -> 70.015699
A13: - | B13: Nội dung 01: Tiếp tục hoàn thiện và nâng cao chất lượng hệ thống hạ tầng giao thông (bao gồm cả cầu dân sinh, công trình giao thông) phục vụ dân sinh, sản xuất và kinh doanh trên địa bàn xã, thôn; hạ tầng giao thông kết nối liên xã, liên thôn theo hướng đồng bộ, hiện đại, thích ứng với biến đổi khí hậu, phù hợp với đặc thù vùng, miền và bảo đảm kết nối hiệu quả. Trong đó, tập trung, ưu tiên hỗ trợ đầu tư cho các xã, thôn đặc biệt khó khăn, vùng đồng bào DTTS&MN, an toàn khu, biên giới và hải đảo | G13: =SUM(G14:G15) -> 4837 | H13: =SUM(H14:H15) -> 4837 | I13: =SUM(I14:I15) -> 3754 | J13: =SUM(J14:J15) -> 637 | K13: =SUM(K14:K15) -> 446 | N13: =O13/N9*100 -> 28.849227 | O13: =O9+P9 -> 1083
A14: + | B14: Đường đi khu sản xuất thôn 7, xã Kon Braih | C14: TT CƯDVCI xã | D14: Thôn 7, xã Kon Braih | E14: 2026 | F14: Công trình đường giao thông nông thôn loại B, Cấp IV | G14: 2537 | H14: =SUM(I14:K14) -> 2537 | I14: 1969 | J14: 335 | K14: 233 | M14: =G14*77.6% -> 1968.712 | N14: =I15*0.17 -> 303.45 | O14: =N14*0.6 -> 182.07 | P14: =N14-O14 -> 121.38
A15: + | B15: Đường đi khu sản xuất thôn 9 (thôn Đak Pơ Kong cũ; đoạn từ trường tiểu học Kim Đồng đến giáp đường bê tông) | D15: Thôn 9, xã Kon Braih | E15: 2026 | F15: Công trình đường giao thông nông thôn loại B, Cấp IV | G15: 2300 | H15: =I15+J15+K15 -> 2300 | I15: 1785 | J15: 302 | K15: 213 | M15: =G15*77.6% -> 1784.8 | N15: =M15*0.3 -> 535.44 | O15: =N15*0.6 -> 321.264 | P15: =N15-O15 -> 214.176
A16: II | B16: NGUỒN VỐN VÙNG ĐBDTTS&MN, NÔNG THÔN MỚI TỪ NĂM 2025 VỀ TRƯỚC CHUYỂN SANG | G16: =SUM(G17:G18) -> 890.36919 | H16: =SUM(H17:H18) -> 890.36919 | I16: =SUM(I17:I18) -> 887.61419 | J16: =SUM(J17:J18) -> 2.755 | K16: =SUM(K17:K18) -> 0
B17: Nước sinh hoạt thôn 4 (làng Kon Nhên) | C17: Phòng XD,NN&MT | D17: Thôn 4, Xã Kon Braih | E17: 2026 | F17: Công trình hạ tầng kỹ thuật | G17: =H17 -> 526.96919 | H17: =SUM(I17:K17) -> 526.96919 | I17: 524.21419 | J17: 2.755 | L17: Nguồn vốn nông thôn mới giai đoạn 2021-2025 chuyển sang
B18: Sữa chữa Cầu treo thôn 3(Kon Rơ Pen) | D18: Thôn 9, Xã Kon Braih | E18: 2026 | F18: Cầu treo dân sinh | G18: 363.4 | H18: =SUM(I18:K18) -> 363.4 | I18: 363.4 | L18: Nguồn vốn vùng ĐBDTTS&MN giai đoạn 2021-2025 chuyển sang
A19: *. Ngân sách cấp xã đối ứng 446 triệu đồng từ nguồn vốn đầu tư được phân cấp hằng năm và các nguồn vốn hợp pháp khác
N20: =304-30 -> 274
C24: =K12+'PLTH 2 (TX 2026)'!H11 -> 594

Sheet PLTH 2 (TX 2026)
A1: PHỤ LỤC TỔNG HỢP 2
A2: DỰ KIẾN PHÂN BỔ DỰ TOÁN KINH PHÍ CHI THƯỜNG XUYÊN NĂM 2026 THỰC HIỆN CHƯƠNG TRÌNH MTQG XÂY DỰNG NÔNG THÔN MỚI, GIẢM NGHÈO BỀN VỮNG VÀ PHÁT TRIỂN KINH TẾ - XÃ HỘI VÙNG ĐỒNG BÀO DÂN TỘC THIỂU SỐ VÀ MIỀN NÚI GIAI ĐOẠN 2026 - 2035, GIAI ĐOẠN I: TỪ NĂM 2026 ĐẾN NĂM 2030
A3: Nguồn vốn: Ngân sách trung ương, ngân sách tỉnh và ngân sách xã
A4: (Kèm theo Tờ trình số /TTr-UBND ngày tháng năm 2026 UBND xã Kon Braih)
H5: ĐVT: Triệu đồng
A6: STT | B6: Chủ đầu tư/ Đơn vị đầu mối giao kế hoạch vốn thực hiện Chương tình mục tiêu quốc gia | C6: Điểm phân bổ từ Ngân sách trung ương và Ngân sách tỉnh | E6: Kinh phí chi thường xuyên năm 2026 | I6: Ghi chú
C9: NSTW | D9: NS tỉnh | E9: Tổng tất cả các nguồn vốn | F9: Trong đó:
F10: NSTW | G10: NS tỉnh | H10: NS cấp xã
B11: TỔNG CỘNG | E11: =SUM(E12:E18) -> 1626 | F11: =SUM(F12:F18) -> 1195 | G11: =SUM(G12:G18) -> 283 | H11: =SUM(H12:H18) -> 148 | J11: =E11+'PLTH 1 (ĐT 2026) '!E11 -> 7353.3692 | L11: =F11+'PLTH 1 (ĐT 2026) '!F11 -> 5836.6142
A12: 1 | B12: Phòng Xây dựng, nông nghiệp và môi trường | E12: =F12+G12+H12 -> 566 | F12: ='PL2.1 (TX 2026)'!E12+'PL2.1 (TX 2026)'!E14+'PL2.1 (TX 2026)'!E17+'PL2.1 (TX 2026)'!E21+'PL2.1 (TX 2026)'!E23+'PL2.1 (TX 2026)'!E25+'PL2.1 (TX 2026)'!E35+'PL2.1 (TX 2026)'!E37+'PL2.1 (TX 2026)'!E54+'PL2.1 (TX 2026)'!E56+'PL2.1 (TX 2026)'!E58+'PL2.1 (TX 2026)'!E60 -> 340 | G12: ='PL2.1 (TX 2026)'!F24+'PL2.1 (TX 2026)'!F59+'PL2.1 (TX 2026)'!F61 -> 78 | H12: ='PL2.1 (TX 2026)'!G12+'PL2.1 (TX 2026)'!G14 -> 148 | L12: =G11+'PLTH 1 (ĐT 2026) '!G11 -> 922.755
A13: 2 | B13: Văn phòng HĐND-UBND | E13: =F13+G13+H13 -> 100 | F13: ='PL2.1 (TX 2026)'!E30 -> 100 | L13: =H11+'PLTH 1 (ĐT 2026) '!H11 -> 594
A14: 3 | B14: Phòng Văn hóa - Xã hội | E14: =F14+G14+H14 -> 710 | F14: ='PL2.1 (TX 2026)'!E32+'PL2.1 (TX 2026)'!E64+'PL2.1 (TX 2026)'!E67+'PL2.1 (TX 2026)'!E70 -> 565 | G14: ='PL2.1 (TX 2026)'!F65 -> 145
A15: 4 | B15: Phòng Tài chính, Công thương | E15: =F15+G15+H15 -> 40 | F15: ='PL2.1 (TX 2026)'!E19 -> 40
A16: 5 | B16: Trung tâm phục vụ hành chính công | E16: =F16+G16+H16 -> 50 | F16: ='PL2.1 (TX 2026)'!E28 -> 50
A17: 6 | B17: Mặt trận Tổ quốc Việt Nam xã | E17: =F17+G17+H17 -> 100 | F17: ='PL2.1 (TX 2026)'!E40+'PL2.1 (TX 2026)'!E42+'PL2.1 (TX 2026)'!E44+'PL2.1 (TX 2026)'!E46+'PL2.1 (TX 2026)'!E48 -> 100 | G17: ='PL2.1 (TX 2026)'!F33+'PL2.1 (TX 2026)'!F41+'PL2.1 (TX 2026)'!F43+'PL2.1 (TX 2026)'!F45+'PL2.1 (TX 2026)'!F47+'PL2.1 (TX 2026)'!F49 -> 0
A18: 7 | B18: Công an xã | E18: =F18+G18+H18 -> 60 | F18: ='PL2.1 (TX 2026)'!E52 -> 0 | G18: ='PL2.1 (TX 2026)'!F52 -> 60 | H18: ='PL2.1 (TX 2026)'!G52 -> 0
A19: *. Ngân sách cấp xã đối ứng 148 triệu đồng từ nguồn chi thường xuyên

Sheet PL2.1 (TX 2026)
A1: PHỤ LỤC 2.1
A2: DỰ TOÁN KINH PHÍ CHI THƯỜNG XUYÊN NĂM 2026 THỰC HIỆN CÁC DỰ ÁN THÀNH PHẦN THUỘC CHƯƠNG TRÌNH MỤC TIÊU QUỐC GIA XÂY DỰNG NÔNG THÔN MỚI, GIẢM NGHÈO BỀN VỮNG VÀ PHÁT TRIỂN KINH TẾ - XÃ HỘI VÙNG ĐỒNG BÀO DÂN TỘC THIỂU SỐ VÀ MIỀN NÚI
A3: Nguồn vốn: Ngân sách trung ương, ngân sách tỉnh và ngân sách xã
A4: (Kèm theo Tờ trình số 134/TTr-UBND ngày 15 tháng 9 năm 2026 UBND xã Kon Braih)
E5: ĐVT: Triệu đồng
A7: TT | B7: NỘI DUNG THÀNH PHẦN CỦA CHƯƠNG TRÌNH | C7: Đơn vị thực hiện | D7: TỔNG KINH PHÍ CHI THƯỜNG XUYÊN | H7: Ghi chú
D8: Tổng tất cả các nguồn vốn | E8: NSTW | F8: NS tỉnh | G8: NS xã | J8: =J10+K10+L10 -> 1626
B9: TỔNG CỘNG (A+B) | D9: =D10+D62 -> 1626 | E9: =E10+E62 -> 1195 | F9: =F10+F62 -> 283 | G9: =G10+G62 -> 148 | J9: Trung ương | K9: Tỉnh | L9: Xã
A10: A | B10: HỢP PHẦN THỨ NHẤT: CÁC NỘI DUNG CHUNG THỰC HIỆN TRÊN ĐỊA BÀN | D10: =D11+D16+D27+D34+D39+D50+D53 -> 966 | E10: =E11+E16+E27+E34+E39+E50+E53 -> 680 | F10: =F11+F16+F27+F34+F39+F50+F53 -> 138 | G10: =G11+G16+G27+G34+G39+G50+G53 -> 148 | J10: 1195 | K10: 283 | L10: 148 | M10: =L10+K10+J10 -> 1626
A11: * | B11: Nội dung thành phần 02: Phát triển hạ tầng kinh tế - xã hội nông thôn toàn diện, đồng bộ, hiện đại, kết nối hiệu quả với đô thị và thích ứng với biến đổi khí hậu (gồm 14 nội dung cụ thể) | D11: =D12+D14 -> 208 | E11: =E12+E14 -> 60 | F11: =F12+F14 -> 0 | G11: =G12+G14 -> 148 | J11: =E9-J10 -> 0 | K11: =F9-K10 -> 0 | L11: =G9-L10 -> 0
A12: - | B12: Nội dung 03: Tăng cường năng lực phòng, chống thiên tai cấp xã nhằm chủ động phòng ngừa, ứng phó kịp thời, khắc phục hậu quả thiên tai có hiệu quả thông qua xây dựng hệ thống cảnh báo sớm, trang bị thiết bị thiết yếu, tổ chức lực lượng xung kích phòng, chống thiên tai và tuyên truyền, phổ biến, tập huấn, hướng dẫn nâng cao nhận thức cộng đồng về phòng, chống thiên tai, thích ứng với biến đổi khí hậu, nhất là tại các xã, thôn đặc biệt khó khăn, vùng đồng bào DTTS&MN, an toàn khu, biên giới và hải đảo, vùng có nguy cơ rủi ro cao và dễ bị tổn thương do biến đổi khí hậu. | C12: Phòng XD,NN&MT | D12: =E12+F12+G12 -> 73 | E12: =E13 -> 0 | F12: =F13 -> 0 | G12: =G13 -> 73 | J12: =J10-E11-E27-E39-E53 -> 715 | L12: =J10/D9*100 -> 73.493235
B13: - Phòng XD,NN&MT | D13: =D12 -> 73 | G13: 73 | J13: =SUM(E9:G9) -> 1626
A14: - | B14: Nội dung 14: Quản lý vận hành và bảo trì công trình được đầu tư xây dựng sau khi hoàn thành đưa vào sử dụng; từng bước hình thành mô hình quản lý, vận hành, khai thác và cung cấp dịch vụ hạ tầng phù hợp. | C14: Phòng XD,NN&MT | D14: =E14+F14+G14 -> 135 | E14: =E15 -> 60 | F14: =F15 -> 0 | G14: =G15 -> 75 | H14: =H15 -> 0 | L14: =G14-L11 -> 75
B15: - Phòng XD,NN&MT | D15: =SUM(E15:G15) -> 135 | E15: 60 | G15: 75
A16: * | B16: Nội dung thành phần 03: Phát triển kinh tế nông thôn theo hướng sinh thái, hiện đại, tích hợp đa giá trị và đáp ứng nhu cầu thị trường (gồm 10 nội dung cụ thể) | D16: =D17+D19+D21+D23+D25 -> 173 | E16: =E17+E19+E21+E23+E25 -> 150 | F16: =F17+F19+F21+F23+F25 -> 23 | G16: =G17+G19+G21+G23+G25 -> 0 | K16: =G11+'[1]PL2.1 (TX 2026)'!$G$9 -> 227
A17: - | B17: Nội dung 01: Thực hiện cơ cấu lại ngành nông nghiệp và phát triển kinh tế nông thôn, tiểu thủ công nghiệp theo hướng sinh thái, hiện đại, tích hợp đa giá trị, phát huy lợi thế về địa hình, khí hậu, cảnh quan thiên nhiên, hạ tầng kinh tế xã hội và đáp ứng nhu cầu thị trường. Tập trung, ưu tiên áp dụng các quy trình sản xuất nông nghiệp giảm phát thải, nông nghiệp sinh thái, nông nghiệp hữu cơ, nông nghiệp tuần hoàn, bảo vệ tài nguyên; khuyến khích thực hành sản xuất nông nghiệp tốt (VietGAP, GlobalGAP), sử dụng vật tư nông nghiệp an toàn và truy xuất nguồn gốc | C17: Phòng XD,NN&MT | D17: =E17+F17+G17 -> 40 | E17: =E18 -> 40 | F17: =F18 -> 0 | G17: =G18 -> 0
B18: - Phòng XD,NN&MT | D18: =D17 -> 40 | E18: 40 | J18: được hướng dẫn bởi Tiểu mục 1 Mục 2 Chương II Thông tư 23/2026/TT-BNNMT có hiệu lực từ ngày 23/05/2026
B19: Nội dung 02: Tiếp tục củng cố và phát triển kinh tế tập thể, hợp tác xã hiệu quả, hiện đại, gắn với chuỗi giá trị và sinh kế bền vững ở nông thôn. Tập trung, ưu tiên hỗ trợ hợp tác xã, tổ hợp tác trên địa bàn các xã, thôn đặc biệt khó khăn, vùng đồng bào DTTS&MN, an toàn khu, biên giới và hải đảo; hợp tác xã nông nghiệp ứng dụng công nghệ cao, chuyển đổi số, liên kết sản xuất và tiêu thụ với doanh nghiệp; hợp tác xã do phụ nữ tham gia quản lý, tạo việc làm cho lao động nữ | C19: Phòng TCCT | D19: =SUM(E19:G19) -> 40 | E19: =E20 -> 40 | F19: =F20 -> 0 | G19: =G20 -> 0
B20: - Phòng TCCT | D20: =SUM(E20:G20) -> 40 | E20: 40 | J20: được hướng dẫn bởi Tiểu mục 2 Mục 2 Chương II Thông tư 23/2026/TT-BNNMT có hiệu lực từ ngày 23/05/2026
B21: Nội dung 04: Phát triển sản phẩm OCOP theo Bộ tiêu chí và quy trình đánh giá, phân hạng sản phẩm OCOP được Thủ tướng Chính phủ phê duyệt, theo hướng chất lượng, đặc trưng, đa giá trị, thân thiện với môi trường, gắn với đẩy mạnh ứng dụng công nghệ trong chế biến, khai thác tiềm năng, lợi thế và giá trị văn hóa địa phương; xây dựng thương hiệu, mở rộng thị trường và thúc đẩy sản phẩm OCOP xanh. Tập trung, ưu tiên hỗ trợ cho các chủ thể là các hợp tác xã, tổ hợp tác, doanh nghiệp nhỏ và vừa, trang trại và hộ sản xuất có đăng ký kinh doanh trên địa bàn các xã, thôn đặc biệt khó khăn, vùng đồng bào DTTS&MN, an toàn khu, biên giới và hải đảo; khuyến khích chủ thể là phụ nữ, người đồng bào dân tộc thiểu số, người khuyết tật tham gia sản xuất sản phẩm OCOP | C21: Phòng XD,NN&MT | D21: =SUM(E21:G21) -> 55 | E21: =E22 -> 55 | F21: =F22 -> 0 | G21: =G22 -> 0
B22: - Phòng XD,NN&MT | D22: =SUM(E22:G22) -> 55 | E22: 55 | J22: được hướng dẫn bởi Tiểu mục 4 Mục 2 Chương II Thông tư 23/2026/TT-BNNMT có hiệu lực từ ngày 23/05/2026
B23: Nội dung 08: Phát triển hệ thống sơ chế, chế biến nông sản theo hướng hiện đại, bền vững, gắn với vùng sản xuất hàng hóa tập trung và chuỗi ngành hàng; nâng cao khả năng bảo quản, chế biến sâu, đa dạng hóa sản phẩm và tăng giá trị gia tăng | C23: Phòng XD,NN&MT | D23: =SUM(E23:G23) -> 23 | E23: =E24 -> 0 | F23: =F24 -> 23 | G23: =G24 -> 0
B24: - Phòng XD,NN&MT | D24: =SUM(E24:G24) -> 23 | F24: 23 | J24: được hướng dẫn bởi Tiểu mục 7 Mục 2 Chương II Thông tư 23/2026/TT-BNNMT có hiệu lực từ ngày 23/05/2026
B25: Nội dung 09: Phát triển mạng lưới khuyến nông cộng đồng gắn với nhu cầu phát triển sản xuất nông nghiệp và kinh tế nông thôn. Tập trung, ưu tiên cho địa bàn các xã, thôn đặc biệt khó khăn, vùng đồng bào DTTS&MN, an toàn khu, biên giới và hải đảo | C25: Phòng XD,NN&MT | D25: =SUM(E25:G25) -> 15 | E25: =E26 -> 15
B26: - Phòng XD,NN&MT | D26: =SUM(E26:G26) -> 15 | E26: 15 | J26: được hướng dẫn bởi Tiểu mục 8 Mục 2 Chương II Thông tư 23/2026/TT-BNNMT có hiệu lực từ ngày 23/05/2026
A27: * | B27: Nội dung thành phần 05: Nâng cao chất lượng dịch vụ hành chính công, trợ giúp pháp lý và thúc đẩy bình đẳng giới (gồm 04 nội dung cụ thể) | D27: =D28+D30+D32 -> 200 | E27: =E28+E30+E32 -> 200 | F27: =F28+F30+F32 -> 0 | G27: =G28+G30+G32 -> 0
A28: - | B28: Nội dung 02: Đổi mới toàn diện việc giải quyết thủ tục hành chính, cung cấp dịch vụ công không phụ thuộc địa giới hành chính | C28: TT hành chính công | D28: =D29 -> 50 | E28: =E29 -> 50
B29: Trung tâm hành chính công | D29: =SUM(E29:G29) -> 50 | E29: 50
B30: Nội dung 03: Nâng cao nhận thức, tăng cường khả năng tiếp cận pháp luật và thụ hưởng dịch vụ trợ giúp pháp lý, hỗ trợ pháp lý, biện pháp bảo đảm, đăng ký biện pháp bảo đảm, bồi thường của Nhà nước cho người dân; tăng cường phổ biến, giáo dục pháp luật và hòa giải cơ sở, nhằm nâng cao ý thức thượng tôn Hiến pháp, pháp luật, xây dựng nếp sống và hành vi ứng xử theo pháp luật trong cộng đồng dân cư nông thôn, giải quyết tốt các mâu thuẫn, tranh chấp ở khu vực nông thôn, tập trung, ưu tiên người dân thuộc hộ nghèo, hộ cận nghèo, hộ mới thoát nghèo, nhóm dễ bị tổn thương, người dân tại các xã, thôn đặc biệt khó khăn, vùng đồng bào DTTS&MN, an toàn khu, biên giới và hải đảo... Đánh giá tính thống nhất, đồng bộ, phù hợp và kiến nghị sửa đổi, bổ sung, thay thế, hoàn thiện văn bản quy phạm pháp luật về công tác xây dựng NTM, giảm nghèo, phát triển vùng đồng bào DTTS&MN thuộc phạm vi chức năng, nhiệm vụ quản lý nhà nước của Bộ | C30: Văn phòng HĐND-UBND | D30: =SUM(E30:G30) -> 100 | E30: 100 | F30: =F31 -> 0 | G30: =G31 -> 0
B31: - Văn phòng HĐND-UBND | D31: =SUM(E31:G31) -> 64 | E31: 64 | J31: được hướng dẫn bởi Mục B Phần thứ 2 Hướng dẫn 2855/HD-BTP năm 2026 có hiệu lực từ ngày 29/04/2026
A32: - | B32: Nội dung 04: Tăng cường thực hiện lồng ghép giới trong xây dựng chính sách, chương trình về giảm nghèo, an sinh xã hội, xây dựng nông thôn mới, phát triển kinh tế - xã hội vùng đồng bào DTTS&MN. Thúc đẩy bình đẳng giới trong công tác giảm nghèo, xây dựng nông thôn mới và phát triển kinh tế - xã hội vùng đồng bào DTTS&MN ở địa phương. Đẩy mạnh truyền thông nhằm thay đổi định kiến giới. Tăng cường vai trò, vị thế của phụ nữ trong lãnh đạo, quản lý và phát triển cộng đồng; tổ chức triển khai các chỉ tiêu bình đẳng giới ; nâng cao nhận thức về giới trong xây dựng cộng đồng văn minh, tiến bộ: | C32: Phòng Văn hóa - Xã hội | D32: =SUM(E32:G32) -> 50 | E32: =E33 -> 50 | F32: =F33 -> 0 | G32: =G33 -> 0
B33: - Phòng VH-XH | D33: =SUM(E33:G33) -> 50 | E33: 50
A34: * | B34: Nội dung thành phần 07: Xây dựng môi trường và cảnh quan nông thôn sáng, xanh, sạch, đẹp, an toàn và thích ứng với biến đổi khí hậu; tăng cường công tác bảo đảm an toàn thực phẩm tại khu vực nông thôn (gồm 04 nội dung cụ thể) | D34: =D35+D37 -> 50 | E34: =E35+E37 -> 50 | F34: =F35+F37 -> 0 | G34: =G35+G37 -> 0
B35: Nội dung 02: Kiểm soát, xử lý ô nhiễm và cải thiện chất lượng môi trường tại những khu vực tập trung nhiều nguồn thải, làng nghề và các khu vực mặt nước bị ô nhiễm; tăng cường giám sát môi trường dựa vào cộng đồng, khuyến khích sự tham gia của cộng đồng dân cư và các tổ chức đoàn thể trong giám sát nguồn thải, phát hiện sớm và phản ánh kịp thời các hành vi gây ô nhiễm môi trường | C35: Phòng XD,NN&MT | D35: =SUM(E35:G35) -> 0 | E35: =E36 -> 0 | F35: =F36 -> 0 | G35: =G36 -> 0
B36: - Phòng XD,NN&MT | D36: =SUM(E36:G36) -> 0 | F36: =F28 -> 0
B37: Nội dung 03: Gìn giữ, cải tạo và phát triển cảnh quan môi trường nông thôn sáng - xanh - sạch - đẹp, bảo tồn không gian làng quê, cảnh quan thiên nhiên và bản sắc văn hóa địa phương. Phát triển mô hình thôn sinh thái, khu dân cư kiểu mẫu, mở rộng không gian sinh hoạt cộng đồng; trồng cây xanh, cải tạo cảnh quan gắn với cộng đồng dân cư. Phát huy vai trò tự quản của cộng đồng trong duy trì môi trường sống hài hòa, an toàn và thân thiện với thiên nhiên. Xây dựng thí điểm một số mô hình “nông nghiệp xanh” | C37: Phòng XD,NN&MT | D37: =SUM(E37:G37) -> 50 | E37: =E38 -> 50 | F37: =F38 -> 0 | G37: =G38 -> 0
B38: - Phòng XD,NN&MT | D38: =SUM(E38:G38) -> 50 | E38: 50 | J38: được hướng dẫn bởi Tiểu mục 3 Mục 4 Chương II Thông tư 23/2026/TT-BNNMT có hiệu lực từ ngày 23/05/2026
A39: * | B39: Nội dung thành phần 08: Phát huy vai trò của Mặt trận Tổ quốc Việt Nam và các tổ chức chính trị - xã hội trong xây dựng nông thôn mới, giảm nghèo bền vững và phát triển kinh tế xã hội vùng đồng bào DTTS&MN (gồm 05 nội dung cụ thể) | D39: =D40+D42+D44+D46+D48 -> 100 | E39: =E40+E42+E44+E46+E48 -> 100 | F39: =F40+F42+F44+F46+F48 -> 0 | G39: =G40+G42+G44+G46+G48 -> 0
A40: - | B40: Nội dung 01: Tuyên truyền, vận động phát huy vai trò chủ thể của người dân trong xây dựng nông thôn mới, giảm nghèo bền vững, phát triển kinh tế vùng đồng bào dân tộc thiểu số và miền núi. Triển khai hiệu quả Cuộc vận động “Toàn dân đoàn kết xây dựng NTM, đô thị văn minh”; xây dựng, nhân rộng mô hình “Khu dân cư đoàn kết, ấm no, hạnh phúc”, tổ chức lấy ý kiến sự hài lòng của người dân về xây dựng nông thôn mới. Thực hiện công tác an sinh xã hội gắn với xây dựng nông thôn mới, giảm nghèo bền vững, phát triển kinh tế vùng đồng bào dân tộc thiểu số và miền núi; thực hiện chuyển đổi số trong triển khai thực hiện Chương trình. Nâng cao chất lượng công tác giám sát, phản biện xã hội trong xây dựng, triển khai thực hiện Chương trình. | C40: Ủy ban mặt trận TQVN xã | D40: =SUM(E40:G40) -> 30 | E40: =E41 -> 30 | F40: =F41 -> 0 | G40: =G41 -> 0
B41: - Ủy ban mặt trận | D41: =SUM(E41:G41) -> 30 | E41: 30
...
